BEGIN:VCALENDAR
VERSION:2.0
PRODID:-//159.69.87.28//NONSGML kigkonsult.se iCalcreator 2.26.9//
CALSCALE:GREGORIAN
METHOD:PUBLISH
X-WR-CALNAME:F L I
X-WR-CALDESC:Fédération Luxembourgeoise d’Improvisation
X-FROM-URL:https://fli.lu
X-WR-TIMEZONE:Europe/Luxembourg
BEGIN:VTIMEZONE
TZID:Europe/Luxembourg
X-LIC-LOCATION:Europe/Luxembourg
BEGIN:STANDARD
DTSTART:20211031T030000
TZOFFSETFROM:+0200
TZOFFSETTO:+0100
RDATE:20221030T030000
TZNAME:CET
END:STANDARD
BEGIN:DAYLIGHT
DTSTART:20210328T020000
TZOFFSETFROM:+0100
TZOFFSETTO:+0200
RDATE:20220327T020000
TZNAME:CEST
END:DAYLIGHT
END:VTIMEZONE
BEGIN:VEVENT
UID:3e1l4828111m80g8jhpt20joo7@google.com
DTSTAMP:20210721T191449Z
CATEGORIES:
CONTACT:
DESCRIPTION:Humour\, Impro\, Théâtre\nL’Habérézina VS Les taupes\nSamedi 27
  octobre à 20h15\nAu Centre culturel de Libramont\nL’Habérézina\, la troup
 e d’impro théâtrale d’Habay\, rencontrera Les taupes (ex champion de Belgi
 que d’impro amateur) !\nLes ingrédients essentiels à la réussite de la bat
 aille seront réunis : un arbitre\, le maître de cérémonie\, les deux équip
 es et le public\, évidemment ! Les règles du jeu sont simples : un arbitre
  donnera les consignes relatives à la forme que l’improvisation doit prend
 re\, au temps imparti pour épater le public\, au nombre de jouteurs\, etc.
  S’ensuivent 20 secondes de réflexion (caucus) avant que les acteurs ne se
  jettent dans l’arène (ou patinoire) sans autre forme de filet. Ensuite\, 
 les jouteurs oseront tout\, pour amuser la galerie. Tout\, absolument tout
 … À la fin de l’improvisation\, munis de votre carton bicolore\, le public
  votera pour l’équipe qu’il aura préférée. Quel juge serez-vous ? Compréhe
 nsif\, intransigeant\, influençable ? On attend de voir… et de rire !\n12 
 €\nArt. 27 : 1\,25 €\n10 chèques-culture\nL’Habérézina VS Les taupes\n\nRé
 servations : http://www.cclibramont.be/reservation/?event_name=impro
DTSTART;TZID=Europe/Luxembourg:20181027T201500
DTEND;TZID=Europe/Luxembourg:20181027T230000
LOCATION:Centre culturel de Libramont-Chevigny\, Avenue de Houffalize 56D\,
  6800 Libramont-Chevigny\, Belgique
SEQUENCE:0
SUMMARY:L’Habérézina Vs Les Taupes
X-ALT-DESC;FMTTYPE=text/html:<!DOCTYPE HTML PUBLIC '-//W3C//DTD HTML 3.2//E
 N'>\\n<HTML>\\n<HEAD>\\n<TITLE></TITLE>\\n</HEAD>\\n<BODY><p>Humour\, Impr
 o\, Théâtre<br />\nL’Habérézina VS Les taupes<br />\nSamedi 27 octobre à 2
 0h15<br />\nAu Centre culturel de Libramont<br />\nL’Habérézina\, la troup
 e d’impro théâtrale d’Habay\, rencontrera Les taupes (ex champion de Belgi
 que d’impro amateur) !</p>\n<p>Les ingrédients essentiels à la réussite de
  la bataille seront réunis : un arbitre\, le maître de cérémonie\, les deu
 x équipes et le public\, évidemment ! Les règles du jeu sont simples : un 
 arbitre donnera les consignes relatives à la forme que l’improvisation doi
 t prendre\, au temps imparti pour épater le public\, au nombre de jouteurs
 \, etc. S’ensuivent 20 secondes de réflexion (caucus) avant que les acteur
 s ne se jettent dans l’arène (ou patinoire) sans autre forme de filet. Ens
 uite\, les jouteurs oseront tout\, pour amuser la galerie. Tout\, absolume
 nt tout… À la fin de l’improvisation\, munis de votre carton bicolore\, le
  public votera pour l’équipe qu’il aura préférée. Quel juge serez-vous ? C
 ompréhensif\, intransigeant\, influençable ? On attend de voir… et de rire
  !</p>\n<p>12 €<br />\nArt. 27 : 1\,25 €<br />\n10 chèques-culture</p>\n<b
 lockquote class='wp-embedded-content' data-secret='nDlaiAGWRo'><p><a href=
 'http://www.cclibramont.be/events/impro/'>L’Habérézina VS Les taupes</a></
 p></blockquote>\n<p><iframe class='wp-embedded-content' sandbox='allow-scr
 ipts' security='restricted' style='position: absolute\; clip: rect(1px\, 1
 px\, 1px\, 1px)\;' src='http://www.cclibramont.be/events/impro/embed/#?sec
 ret=nDlaiAGWRo' data-secret='nDlaiAGWRo' width='600' height='338' title='«
  L’Habérézina VS Les taupes » — Centre Culturel Libramont' frameborder='0'
  marginwidth='0' marginheight='0' scrolling='no'></iframe><br />\nRéservat
 ions : http://www.cclibramont.be/reservation/?event_name=impro</p>\n</BODY
 ></HTML>
END:VEVENT
END:VCALENDAR
