BEGIN:VCALENDAR
VERSION:2.0
PRODID:-//159.69.87.28//NONSGML kigkonsult.se iCalcreator 2.26.9//
CALSCALE:GREGORIAN
METHOD:PUBLISH
X-WR-CALNAME:F L I
X-WR-CALDESC:Fédération Luxembourgeoise d’Improvisation
X-FROM-URL:https://fli.lu
X-WR-TIMEZONE:Europe/Luxembourg
BEGIN:VTIMEZONE
TZID:Europe/Luxembourg
X-LIC-LOCATION:Europe/Luxembourg
BEGIN:STANDARD
DTSTART:20211031T030000
TZOFFSETFROM:+0200
TZOFFSETTO:+0100
RDATE:20221030T030000
TZNAME:CET
END:STANDARD
BEGIN:DAYLIGHT
DTSTART:20210328T020000
TZOFFSETFROM:+0100
TZOFFSETTO:+0200
RDATE:20220327T020000
TZNAME:CEST
END:DAYLIGHT
END:VTIMEZONE
BEGIN:VEVENT
UID:0k404lds3clr53oith5kq7tqsh@google.com
DTSTAMP:20210721T192425Z
CATEGORIES:
CONTACT:
DESCRIPTION:<p>https://www.facebook.com/events/2383907848288950/<br />\n10 
 mai 2019<br />\nOuverture des portes 20h\, spectacle 20h30 au petit théâtr
 e<br />\nPrix 5€ </p>\n<p>L’ascenseur </p>\n<p>Dans une cité utopiste où s
 e mélangent les commerces\, les services\, les bureaux et les habitations\
 , une seule chose les relient tous : l’ascenseur. Découvrirez les passager
 s de cet ascenseur et leurs histoires\, le tout dans un 2m² rempli de rela
 tion\, d’émotion et de révélation… voir plus.<br />\nL’ascenseur est un sp
 ectacle semi improvisé\, ce qui veut dire que chaque pièce est unique et n
 e sera jamais le même à chaque représentation</p>\n<p>Avec Pierre Van Wamb
 eke\, Fanny Kieffer\, Gwenaëlle Retzepter et Erwan Caugant<br />\nBande so
 n Lucas Briclot</p>\n<p>réservation par mail à<br />\nascenseurimpro@gmail
 .com</p>
DTSTART;TZID=Europe/Luxembourg:20190510T203000
DTEND;TZID=Europe/Luxembourg:20190510T220000
LOCATION:Maison de la Culture\, Parc des Expositions 1\, 6700 Arlon\, Belgi
 que
SEQUENCE:0
SUMMARY:L’ascenseur – Concept Impro
END:VEVENT
END:VCALENDAR
