BEGIN:VCALENDAR
VERSION:2.0
PRODID:-//159.69.87.28//NONSGML kigkonsult.se iCalcreator 2.26.9//
CALSCALE:GREGORIAN
METHOD:PUBLISH
X-WR-CALNAME:F L I
X-WR-CALDESC:Fédération Luxembourgeoise d’Improvisation
X-FROM-URL:https://fli.lu
X-WR-TIMEZONE:Europe/Luxembourg
BEGIN:VTIMEZONE
TZID:Europe/Luxembourg
X-LIC-LOCATION:Europe/Luxembourg
BEGIN:STANDARD
DTSTART:20211031T030000
TZOFFSETFROM:+0200
TZOFFSETTO:+0100
RDATE:20221030T030000
TZNAME:CET
END:STANDARD
BEGIN:DAYLIGHT
DTSTART:20210328T020000
TZOFFSETFROM:+0100
TZOFFSETTO:+0200
RDATE:20220327T020000
TZNAME:CEST
END:DAYLIGHT
END:VTIMEZONE
BEGIN:VEVENT
UID:0e67mtcemlukgtq8knkg6dk057@google.com
DTSTAMP:20210721T192416Z
CATEGORIES:
CONTACT:
DESCRIPTION:Venez découvrir les KOI lors de ce spectacle inédit.\nSortie au
  chapeau au profit de l’Asbl Agir Ensemble dans la Solidarité pour l’Aide 
 à Autrui.\nRéservations par email : koi.hein.koi@gmail.com
DTSTART;TZID=Europe/Luxembourg:20190201T203000
DTEND;TZID=Europe/Luxembourg:20190201T220000
LOCATION:29 Boulevard Grande-Duchesse Charlotte\, 1331 Luxembourg
SEQUENCE:0
SUMMARY:Les KOI – Speed dating
X-ALT-DESC;FMTTYPE=text/html:<!DOCTYPE HTML PUBLIC '-//W3C//DTD HTML 3.2//E
 N'>\\n<HTML>\\n<HEAD>\\n<TITLE></TITLE>\\n</HEAD>\\n<BODY><p>Venez découvr
 ir les KOI lors de ce spectacle inédit.</p>\n<p>Sortie au chapeau au profi
 t de l’Asbl Agir Ensemble dans la Solidarité pour l’Aide à Autrui.</p>\n<p
 >Réservations par email : koi.hein.koi@gmail.com</p>\n</BODY></HTML>
END:VEVENT
END:VCALENDAR
