BEGIN:VCALENDAR
VERSION:2.0
PRODID:-//159.69.87.28//NONSGML kigkonsult.se iCalcreator 2.26.9//
CALSCALE:GREGORIAN
METHOD:PUBLISH
X-WR-CALNAME:F L I
X-WR-CALDESC:Fédération Luxembourgeoise d’Improvisation
X-FROM-URL:https://fli.lu
X-WR-TIMEZONE:Europe/Luxembourg
BEGIN:VTIMEZONE
TZID:Europe/Luxembourg
X-LIC-LOCATION:Europe/Luxembourg
BEGIN:STANDARD
DTSTART:20211031T030000
TZOFFSETFROM:+0200
TZOFFSETTO:+0100
RDATE:20221030T030000
TZNAME:CET
END:STANDARD
BEGIN:DAYLIGHT
DTSTART:20210328T020000
TZOFFSETFROM:+0100
TZOFFSETTO:+0200
RDATE:20220327T020000
TZNAME:CEST
END:DAYLIGHT
END:VTIMEZONE
BEGIN:VEVENT
UID:4sdkfot8l0a09rao07gi4cg2d8@google.com
DTSTAMP:20210721T192403Z
CATEGORIES:
CONTACT:
DESCRIPTION:Les Zarel Zhappy vous invite à un stage avec FX Fiévez.\n40€ la
  journée\nInscription :messenger Nath Brau privé ou leszhappy@yahoo.com \,
  il reste 3 places\nMais qui est ce FX ?\nIl a commencé l’impro via l’Impr
 okot à Louvain-la-Neuve en 2000.\nIl est ensuite passé par le parcours FBI
 A classique\, championnat inter unif\, championnat de Belgique\, sélection
  nationale et équipe nationale avec à son actif 3 titres de champions du m
 onde.\nIl a été coach\, maître de musique\, maître de cérémonie et membre 
 du Conseil d’administration de la FBIA.\nEn 2010 il entre à la Ligue d’Imp
 rovisation Belge où il décroche le prix Robert Gravel de la meilleure recr
 ue.\nEn 2012 il fonde la Ligue d’Improvisation Professionnelle Wallonie-Br
 uxelles où il est actuellement comédien\, coach et membre de la Commission
  artistique.\nEn 2017 il a créé son propre spectacle d’impro basé sur des 
 duos en format long.\nPour lui\, l’improvisation théâtrale\, c’est du théâ
 tre ! Et le théâtre est soumis à des règles précises et à un intérêt pouss
 é pour l’esthétique dramaturgique (l’art de composer de ‘beaux’ spectacles
 ).\nDonc en coaching\, nous explorons le jeu verbal (voix\, bruitages\, et
 c) et non-verbal (respiration\, expression corporelle\, etc.)\, la gestion
  de l’espace (manipulations\, lieux\, décorum)\, l’interprétation (personn
 ages\, émotions\, relations)\, la narration (schémas narratifs\, construct
 ion de scénario) et la créativité issue de l’imaginaire spontané (univers 
 et ambiances).\nL’improvisation est la plupart du temps une pratique de gr
 oupe. Des valeurs éthiques et morales sont en jeu : acceptation\, écoute\,
  ouverture\, coopération\, partage\, etc. C’est en respectant et faisant v
 ivre ces valeurs qu’il est possible de se relier aux autres. Ces valeurs t
 ransposées dans le jeu théâtral improvisé en permettent une meilleure appl
 ication des principes.\nIl résume donc son approche avec une citation de T
 erry Pratchett : « Imagination is intelligence having fun. » L’aspect ludi
 que cadré par des outils est l’unique porte ouverte à une créativité saine
 . Des règles et leurs détours !
DTSTART;TZID=Europe/Luxembourg:20190223T100000
DTEND;TZID=Europe/Luxembourg:20190223T180000
LOCATION:Rue des Faubourgs 2\, 6700 Arlon\, Belgique
SEQUENCE:0
SUMMARY:Stage avec Fx Fiévez
X-ALT-DESC;FMTTYPE=text/html:<!DOCTYPE HTML PUBLIC '-//W3C//DTD HTML 3.2//E
 N'>\\n<HTML>\\n<HEAD>\\n<TITLE></TITLE>\\n</HEAD>\\n<BODY><p>Les Zarel Zha
 ppy vous invite à un stage avec FX Fiévez.<br />\n40€ la journée<br />\nIn
 scription :messenger Nath Brau privé ou leszhappy@yahoo.com \, il reste 3 
 places<br />\nMais qui est ce FX ?<br />\nIl a commencé l’impro via l’Impr
 okot à Louvain-la-Neuve en 2000.<br />\nIl est ensuite passé par le parcou
 rs FBIA classique\, championnat inter unif\, championnat de Belgique\, sél
 ection nationale et équipe nationale avec à son actif 3 titres de champion
 s du monde.<br />\nIl a été coach\, maître de musique\, maître de cérémoni
 e et membre du Conseil d’administration de la FBIA.<br />\nEn 2010 il entr
 e à la Ligue d’Improvisation Belge où il décroche le prix Robert Gravel de
  la meilleure recrue.<br />\nEn 2012 il fonde la Ligue d’Improvisation Pro
 fessionnelle Wallonie-Bruxelles où il est actuellement comédien\, coach et
  membre de la Commission artistique.<br />\nEn 2017 il a créé son propre s
 pectacle d’impro basé sur des duos en format long.<br />\nPour lui\, l’imp
 rovisation théâtrale\, c’est du théâtre ! Et le théâtre est soumis à des r
 ègles précises et à un intérêt poussé pour l’esthétique dramaturgique (l’a
 rt de composer de ‘beaux’ spectacles).<br />\nDonc en coaching\, nous expl
 orons le jeu verbal (voix\, bruitages\, etc) et non-verbal (respiration\, 
 expression corporelle\, etc.)\, la gestion de l’espace (manipulations\, li
 eux\, décorum)\, l’interprétation (personnages\, émotions\, relations)\, l
 a narration (schémas narratifs\, construction de scénario) et la créativit
 é issue de l’imaginaire spontané (univers et ambiances).<br />\nL’improvis
 ation est la plupart du temps une pratique de groupe. Des valeurs éthiques
  et morales sont en jeu : acceptation\, écoute\, ouverture\, coopération\,
  partage\, etc. C’est en respectant et faisant vivre ces valeurs qu’il est
  possible de se relier aux autres. Ces valeurs transposées dans le jeu thé
 âtral improvisé en permettent une meilleure application des principes.<br 
 />\nIl résume donc son approche avec une citation de Terry Pratchett : « I
 magination is intelligence having fun. » L’aspect ludique cadré par des ou
 tils est l’unique porte ouverte à une créativité saine. Des règles et leur
 s détours !</p>\n</BODY></HTML>
END:VEVENT
END:VCALENDAR
