BEGIN:VCALENDAR
VERSION:2.0
PRODID:-//159.69.87.28//NONSGML kigkonsult.se iCalcreator 2.26.9//
CALSCALE:GREGORIAN
METHOD:PUBLISH
X-WR-CALNAME:F L I
X-WR-CALDESC:Fédération Luxembourgeoise d’Improvisation
X-FROM-URL:https://fli.lu
X-WR-TIMEZONE:Europe/Luxembourg
BEGIN:VTIMEZONE
TZID:Europe/Luxembourg
X-LIC-LOCATION:Europe/Luxembourg
BEGIN:STANDARD
DTSTART:20211031T030000
TZOFFSETFROM:+0200
TZOFFSETTO:+0100
RDATE:20221030T030000
TZNAME:CET
END:STANDARD
BEGIN:DAYLIGHT
DTSTART:20210328T020000
TZOFFSETFROM:+0100
TZOFFSETTO:+0200
RDATE:20220327T020000
TZNAME:CEST
END:DAYLIGHT
END:VTIMEZONE
BEGIN:VEVENT
UID:5lih9fu5epvldha1h2a9mmc5ug@google.com
DTSTAMP:20210721T192351Z
CATEGORIES:
CONTACT:
DESCRIPTION:Réservations  et infos: leszhappy@yahoo.com ou sms au  +32 471 
 11 33 21
DTSTART;TZID=Europe/Luxembourg:20190504T200000
DTEND;TZID=Europe/Luxembourg:20190504T230000
LOCATION:Institut Sainte-Marie\, Rue de Bastogne 33\, 6700 Arlon\, Belgique
SEQUENCE:0
SUMMARY:Les Zarel Zhappy / Les Éphémères (Cannes F)
X-ALT-DESC;FMTTYPE=text/html:<!DOCTYPE HTML PUBLIC '-//W3C//DTD HTML 3.2//E
 N'>\\n<HTML>\\n<HEAD>\\n<TITLE></TITLE>\\n</HEAD>\\n<BODY><p>Réservations 
  et infos: leszhappy@yahoo.com ou sms au  +32 471 11 33 21 </p>\n</BODY></
 HTML>
END:VEVENT
END:VCALENDAR
