BEGIN:VCALENDAR
VERSION:2.0
PRODID:-//159.69.87.28//NONSGML kigkonsult.se iCalcreator 2.26.9//
CALSCALE:GREGORIAN
METHOD:PUBLISH
X-WR-CALNAME:F L I
X-WR-CALDESC:Fédération Luxembourgeoise d’Improvisation
X-FROM-URL:https://fli.lu
X-WR-TIMEZONE:Europe/Luxembourg
BEGIN:VTIMEZONE
TZID:Europe/Luxembourg
X-LIC-LOCATION:Europe/Luxembourg
BEGIN:STANDARD
DTSTART:20211031T030000
TZOFFSETFROM:+0200
TZOFFSETTO:+0100
RDATE:20221030T030000
TZNAME:CET
END:STANDARD
BEGIN:DAYLIGHT
DTSTART:20210328T020000
TZOFFSETFROM:+0100
TZOFFSETTO:+0200
RDATE:20220327T020000
TZNAME:CEST
END:DAYLIGHT
END:VTIMEZONE
BEGIN:VEVENT
UID:7r3ihcqh657jvc5ajueeusi5lp@google.com
DTSTAMP:20210721T192338Z
CATEGORIES:
CONTACT:
DESCRIPTION:GROUP MIND AND SPONTANEITY\nEN: You’ve heard about improv\, you
 ’ve seen some shows\, you are curious about giving it a try? This workshop
  is made for you. Let’s awake your inner creativity and use it to be in th
 e moment and to collectively create scenes: characters\, relationships\, e
 nvironments and stories!\nDuring this workshop\, we will explore the funda
 mentals of improv with an emphasis on group mind\, acceptance and spontane
 ity.\nCome and join a great group of open-minded\, enthusiastic and motiva
 ted people for a great day of discovery and fun!\nFR: L’improvisation théâ
 trale t’intrigue. Tu es curieux-se ? Intéressé-e ? Sceptique ? Viens le te
 mps d’un week-end t’immerger dans le monde de l’improvisation théâtrale\, 
 découvrir cette discipline artistique passionnante ainsi que l’improvisate
 ur qui sommeille en toi!\nDécouverte de l’improvisation théâtrale en tant 
 que discipline artistique collective fondée sur la bienveillance (envers s
 oi et envers les autres)\, l’écoute et l’acceptation.\nExploration du lâch
 er-prise physique et mental notamment par le biais de l’expression corpore
 lle.
DTSTART;TZID=Europe/Luxembourg:20190216T100000
DTEND;TZID=Europe/Luxembourg:20190216T170000
LOCATION:Centre Nicolas Braun\, 5886\, 474 Route de Thionville\, 5886 Alzin
 gen\, Luxembourg
SEQUENCE:0
SUMMARY:Bilingual Improv Workshop (English/French) – Celine CAMARA
X-ALT-DESC;FMTTYPE=text/html:<!DOCTYPE HTML PUBLIC '-//W3C//DTD HTML 3.2//E
 N'>\\n<HTML>\\n<HEAD>\\n<TITLE></TITLE>\\n</HEAD>\\n<BODY><p>GROUP MIND AN
 D SPONTANEITY</p>\n<p>EN: You’ve heard about improv\, you’ve seen some sho
 ws\, you are curious about giving it a try? This workshop is made for you.
  Let’s awake your inner creativity and use it to be in the moment and to c
 ollectively create scenes: characters\, relationships\, environments and s
 tories!</p>\n<p>During this workshop\, we will explore the fundamentals of
  improv with an emphasis on group mind\, acceptance and spontaneity.</p>\n
 <p>Come and join a great group of open-minded\, enthusiastic and motivated
  people for a great day of discovery and fun!</p>\n<p>FR: L’improvisation 
 théâtrale t’intrigue. Tu es curieux-se ? Intéressé-e ? Sceptique ? Viens l
 e temps d’un week-end t’immerger dans le monde de l’improvisation théâtral
 e\, découvrir cette discipline artistique passionnante ainsi que l’improvi
 sateur qui sommeille en toi!</p>\n<p>Découverte de l’improvisation théâtra
 le en tant que discipline artistique collective fondée sur la bienveillanc
 e (envers soi et envers les autres)\, l’écoute et l’acceptation.</p>\n<p>E
 xploration du lâcher-prise physique et mental notamment par le biais de l’
 expression corporelle.</p>\n</BODY></HTML>
END:VEVENT
END:VCALENDAR
