BEGIN:VCALENDAR
VERSION:2.0
PRODID:-//159.69.87.28//NONSGML kigkonsult.se iCalcreator 2.26.9//
CALSCALE:GREGORIAN
METHOD:PUBLISH
X-WR-CALNAME:F L I
X-WR-CALDESC:Fédération Luxembourgeoise d’Improvisation
X-FROM-URL:https://fli.lu
X-WR-TIMEZONE:Europe/Luxembourg
BEGIN:VTIMEZONE
TZID:Europe/Luxembourg
X-LIC-LOCATION:Europe/Luxembourg
BEGIN:STANDARD
DTSTART:20211031T030000
TZOFFSETFROM:+0200
TZOFFSETTO:+0100
RDATE:20221030T030000
TZNAME:CET
END:STANDARD
BEGIN:DAYLIGHT
DTSTART:20210328T020000
TZOFFSETFROM:+0100
TZOFFSETTO:+0200
RDATE:20220327T020000
TZNAME:CEST
END:DAYLIGHT
END:VTIMEZONE
BEGIN:VEVENT
UID:3d2q325l261q7es6vnh673rbtm@google.com
DTSTAMP:20210721T192311Z
CATEGORIES:
CONTACT:
DESCRIPTION:C’est au cours d’une pièce de théâtre conventionnel sur une scè
 ne de CDN que je me suis rendu compte de l’importance d’être au rythme de 
 l’histoire. Les comédiens donnaient leur texte à toute vitesse\, les tops 
  s’enchaînaient et nous\, public\, nous courrions derrière eux. Nous n’avi
 ons le temps ni de sentir\, ni de comprendre et surtout ni de croire. Puis
  soudain\, un comédien décida de ralentir. Il laissait le silence répondre
  tout autant que ses paroles. Et tout changea. Soudain\, l’histoire prenai
 t le dessus. Personne ne semblait traîner avec lui l’histoire. Les personn
 ages respiraient. Nous avions le temps de nous y attacher. Les mots prenai
 ent de l’ampleur\, le sous-texte nous avait rejoints.\nC’est une de ses qu
 alités\, l’improvisateur est rapide. Il impressionne souvent par sa vitess
 e de réaction. Mais parfois il va vite et loin mais tout seul. Nous essaie
 rons lors de ce stage d’être plus public que comédien\, comme un spectateu
 r perdu sur la scène. Pour ainsi vivre réellement le moment avec les autre
 s. Laissons le silence agir\, donnons-lui l’opportunité d’être l’acteur pr
 incipal. Et nous\, taisons-nous et soyons en retard.
DTSTART;VALUE=DATE:20190302
DTEND;VALUE=DATE:20190304
LOCATION:Rue des Faubourgs 2\, 6700 Arlon\, Belgique
SEQUENCE:0
SUMMARY:Keep quiet & Be late – stage avec Yann Berriet
X-ALT-DESC;FMTTYPE=text/html:<!DOCTYPE HTML PUBLIC '-//W3C//DTD HTML 3.2//E
 N'>\\n<HTML>\\n<HEAD>\\n<TITLE></TITLE>\\n</HEAD>\\n<BODY><p>C’est au cour
 s d’une pièce de théâtre conventionnel sur une scène de CDN que je me suis
  rendu compte de l’importance d’être au rythme de l’histoire. Les comédien
 s donnaient leur texte à toute vitesse\, les tops  s’enchaînaient et nous\
 , public\, nous courrions derrière eux. Nous n’avions le temps ni de senti
 r\, ni de comprendre et surtout ni de croire. Puis soudain\, un comédien d
 écida de ralentir. Il laissait le silence répondre tout autant que ses par
 oles. Et tout changea. Soudain\, l’histoire prenait le dessus. Personne ne
  semblait traîner avec lui l’histoire. Les personnages respiraient. Nous a
 vions le temps de nous y attacher. Les mots prenaient de l’ampleur\, le so
 us-texte nous avait rejoints.</p>\n<p>C’est une de ses qualités\, l’improv
 isateur est rapide. Il impressionne souvent par sa vitesse de réaction. Ma
 is parfois il va vite et loin mais tout seul. Nous essaierons lors de ce s
 tage d’être plus public que comédien\, comme un spectateur perdu sur la sc
 ène. Pour ainsi vivre réellement le moment avec les autres. Laissons le si
 lence agir\, donnons-lui l’opportunité d’être l’acteur principal. Et nous\
 , taisons-nous et soyons en retard.</p>\n</BODY></HTML>
END:VEVENT
END:VCALENDAR
