BEGIN:VCALENDAR
VERSION:2.0
PRODID:-//159.69.87.28//NONSGML kigkonsult.se iCalcreator 2.26.9//
CALSCALE:GREGORIAN
METHOD:PUBLISH
X-WR-CALNAME:F L I
X-WR-CALDESC:Fédération Luxembourgeoise d’Improvisation
X-FROM-URL:https://fli.lu
X-WR-TIMEZONE:Europe/Luxembourg
BEGIN:VTIMEZONE
TZID:Europe/Luxembourg
X-LIC-LOCATION:Europe/Luxembourg
BEGIN:STANDARD
DTSTART:20211031T030000
TZOFFSETFROM:+0200
TZOFFSETTO:+0100
RDATE:20221030T030000
TZNAME:CET
END:STANDARD
BEGIN:DAYLIGHT
DTSTART:20210328T020000
TZOFFSETFROM:+0100
TZOFFSETTO:+0200
RDATE:20220327T020000
TZNAME:CEST
END:DAYLIGHT
END:VTIMEZONE
BEGIN:VEVENT
UID:437cu8belhcb73rq8ptk6n62ij@google.com
DTSTAMP:20210721T192257Z
CATEGORIES:
CONTACT:
DESCRIPTION:Rencontre d’improvisation théatrale entre les Namur du Risque e
 t L’Habérézina venant tout droit d’Habay-la-Neuvehttps://www.facebook.com/
 events/321209331942352/
DTSTART;TZID=Europe/Luxembourg:20190118T200000
DTEND;TZID=Europe/Luxembourg:20190118T230000
LOCATION:Belvédère\, Avenue Marie d'Artois 1\, 5000 Namur\, Belgique
SEQUENCE:0
SUMMARY:Rencontre L’Habérézina & Namur du Risque
X-ALT-DESC;FMTTYPE=text/html:<!DOCTYPE HTML PUBLIC '-//W3C//DTD HTML 3.2//E
 N'>\\n<HTML>\\n<HEAD>\\n<TITLE></TITLE>\\n</HEAD>\\n<BODY><p>Rencontre d’i
 mprovisation théatrale entre les Namur du Risque et L’Habérézina venant to
 ut droit d’Habay-la-Neuve<br /><a href='https://www.facebook.com/events/32
 1209331942352/' id='ow375'>https://www.facebook.com/events/321209331942352
 /</a></p>\n</BODY></HTML>
END:VEVENT
END:VCALENDAR
