BEGIN:VCALENDAR
VERSION:2.0
PRODID:-//159.69.87.28//NONSGML kigkonsult.se iCalcreator 2.26.9//
CALSCALE:GREGORIAN
METHOD:PUBLISH
X-WR-CALNAME:F L I
X-WR-CALDESC:Fédération Luxembourgeoise d’Improvisation
X-FROM-URL:https://fli.lu
X-WR-TIMEZONE:Europe/Luxembourg
BEGIN:VTIMEZONE
TZID:Europe/Luxembourg
X-LIC-LOCATION:Europe/Luxembourg
BEGIN:STANDARD
DTSTART:20211031T030000
TZOFFSETFROM:+0200
TZOFFSETTO:+0100
RDATE:20221030T030000
TZNAME:CET
END:STANDARD
BEGIN:DAYLIGHT
DTSTART:20210328T020000
TZOFFSETFROM:+0100
TZOFFSETTO:+0200
RDATE:20220327T020000
TZNAME:CEST
END:DAYLIGHT
END:VTIMEZONE
BEGIN:VEVENT
UID:3dv0065gr05nukfsokuf55je7n@google.com
DTSTAMP:20210721T192228Z
CATEGORIES:
CONTACT:
DESCRIPTION:Le samedi 02 février à 20 h00 dans la salle de spectacle du CND
 B Virton Rue Chanoine CrousseMatch d’impro\, Venez rire dans un spectacle 
 de joute verbale sans merci\, un combat épique à ne pas manquer dont vous 
 déciderez l’issue.Cette année L’Habérézina d’Habay affronte les Kip Talkin
 g de BruxellesRéservation souhaitée :unite@scoutsvillers.be063.44.53.57 ou
  0475.625.803Org : Les Scouts de Villers la Loue.Entrée : 7 euros  (5 euro
 s pour les moins de 12ans )www.lhaberezina.behttps://www.facebook.com/even
 ts/329284031239942/
DTSTART;TZID=Europe/Luxembourg:20190202T200000
DTEND;TZID=Europe/Luxembourg:20190202T223000
LOCATION:Collège Notre-Dame du Bonlieu\, Rue Chanoine Crousse 1\, 6760 Virt
 on\, Belgique
SEQUENCE:0
SUMMARY:Rencontre L’Habérézina &  Les Kip Talking
X-ALT-DESC;FMTTYPE=text/html:<!DOCTYPE HTML PUBLIC '-//W3C//DTD HTML 3.2//E
 N'>\\n<HTML>\\n<HEAD>\\n<TITLE></TITLE>\\n</HEAD>\\n<BODY><p>Le samedi 02 
 février à 20 h00 dans la salle de spectacle du CNDB Virton Rue Chanoine Cr
 ousse<br />Match d’impro\, Venez rire dans un spectacle de joute verbale s
 ans merci\, un combat épique à ne pas manquer dont vous déciderez l’issue.
 <br />Cette année L’Habérézina d’Habay affronte les Kip Talking de Bruxell
 es<br />Réservation souhaitée :<br />unite@scoutsvillers.be<br />063.44.53
 .57 ou 0475.625.803<br />Org : Les Scouts de Villers la Loue.<br />Entrée 
 : 7 euros  (5 euros pour les moins de 12ans )<br />www.lhaberezina.be<br /
 ><a href='https://www.facebook.com/events/329284031239942/' id='ow1080'>ht
 tps://www.facebook.com/events/329284031239942/</a></p>\n</BODY></HTML>
END:VEVENT
END:VCALENDAR
