BEGIN:VCALENDAR
VERSION:2.0
PRODID:-//159.69.87.28//NONSGML kigkonsult.se iCalcreator 2.26.9//
CALSCALE:GREGORIAN
METHOD:PUBLISH
X-WR-CALNAME:F L I
X-WR-CALDESC:Fédération Luxembourgeoise d’Improvisation
X-FROM-URL:https://fli.lu
X-WR-TIMEZONE:Europe/Luxembourg
BEGIN:VTIMEZONE
TZID:Europe/Luxembourg
X-LIC-LOCATION:Europe/Luxembourg
BEGIN:STANDARD
DTSTART:20211031T030000
TZOFFSETFROM:+0200
TZOFFSETTO:+0100
RDATE:20221030T030000
TZNAME:CET
END:STANDARD
BEGIN:DAYLIGHT
DTSTART:20210328T020000
TZOFFSETFROM:+0100
TZOFFSETTO:+0200
RDATE:20220327T020000
TZNAME:CEST
END:DAYLIGHT
END:VTIMEZONE
BEGIN:VEVENT
UID:23k18ghsntu04k08dfiropmq08@google.com
DTSTAMP:20210721T193110Z
CATEGORIES:
CONTACT:
DESCRIPTION:<p>Le 26 janvier 2019 Les Epatés Gaumais rencontrent l’Habérézi
 na à Chiny pour une soirée de foliiiie! Préparez vos cartons de vote et vo
 s savates…ça va improviser….😁<br />Venez nombreux cela risque d’être\, trè
 s très sympa 🙂 »</p>\n<p>Infos et réservations : Centre Culturel de Chiny.
 </p>\n<p><a href='https://www.facebook.com/events/283163242396996/' id='ow
 654'>https://www.facebook.com/events/283163242396996/</a></p>
DTSTART;TZID=Europe/Luxembourg:20190126T203000
DTEND;TZID=Europe/Luxembourg:20190126T230000
LOCATION:Centre Culturel Du Beau Canton Chiny @ Florenville\, Rue de Lorrèn
 e 3\, 6810 Chiny\, Belgique
SEQUENCE:0
SUMMARY:Rencontre Les Epatés Gaumais & L’Habérézina
END:VEVENT
END:VCALENDAR
