BEGIN:VCALENDAR
VERSION:2.0
PRODID:-//159.69.87.28//NONSGML kigkonsult.se iCalcreator 2.26.9//
CALSCALE:GREGORIAN
METHOD:PUBLISH
X-WR-CALNAME:F L I
X-WR-CALDESC:Fédération Luxembourgeoise d’Improvisation
X-FROM-URL:https://fli.lu
X-WR-TIMEZONE:Europe/Luxembourg
BEGIN:VTIMEZONE
TZID:Europe/Luxembourg
X-LIC-LOCATION:Europe/Luxembourg
BEGIN:STANDARD
DTSTART:20211031T030000
TZOFFSETFROM:+0200
TZOFFSETTO:+0100
RDATE:20221030T030000
TZNAME:CET
END:STANDARD
BEGIN:DAYLIGHT
DTSTART:20210328T020000
TZOFFSETFROM:+0100
TZOFFSETTO:+0200
RDATE:20220327T020000
TZNAME:CEST
END:DAYLIGHT
END:VTIMEZONE
BEGIN:VEVENT
UID:50274frbgotqg0j8svbfll4g82@google.com
DTSTAMP:20210721T193102Z
CATEGORIES:
CONTACT:
DESCRIPTION:Le Festival : Le Minou reçoit deux équipes invitées pour différ
 ents spectacles !\nPublic\n· Organisé par Le Minou\, ligue d’improvisation
  théâtrale de MetzRéservation sur HelloAsso+ d’infos prochainement : https
 ://www.facebook.com/pg/improMinouMetz/events/?ref=page_internal
DTSTART;TZID=Europe/Luxembourg:20190314T200000
DTEND;TZID=Europe/Luxembourg:20190316T223000
LOCATION:Salle Braun\, 18 Avenue Mozart\, 57000 Metz\, France
SEQUENCE:0
SUMMARY:Le MINOU – Salle Braun à Metz – Festival
X-ALT-DESC;FMTTYPE=text/html:<!DOCTYPE HTML PUBLIC '-//W3C//DTD HTML 3.2//E
 N'>\\n<HTML>\\n<HEAD>\\n<TITLE></TITLE>\\n</HEAD>\\n<BODY><h1>Le Festival 
 : Le Minou reçoit deux équipes invitées pour différents spectacles !</h1>
 \n<p><span>Public</span></p>\n<p>· Organisé par <a href='https://www.faceb
 ook.com/improMinouMetz/' target='_blank' rel='noopener'>Le Minou\, ligue d
 ’improvisation théâtrale de Metz</a><br />Réservation sur HelloAsso<br />+
  d’infos prochainement : https://www.facebook.com/pg/improMinouMetz/events
 /?ref=page_internal</p>\n</BODY></HTML>
END:VEVENT
END:VCALENDAR
