BEGIN:VCALENDAR
VERSION:2.0
PRODID:-//159.69.87.28//NONSGML kigkonsult.se iCalcreator 2.26.9//
CALSCALE:GREGORIAN
METHOD:PUBLISH
X-WR-CALNAME:F L I
X-WR-CALDESC:Fédération Luxembourgeoise d’Improvisation
X-FROM-URL:https://fli.lu
X-WR-TIMEZONE:Europe/Luxembourg
BEGIN:VTIMEZONE
TZID:Europe/Luxembourg
X-LIC-LOCATION:Europe/Luxembourg
BEGIN:STANDARD
DTSTART:20211031T030000
TZOFFSETFROM:+0200
TZOFFSETTO:+0100
RDATE:20221030T030000
TZNAME:CET
END:STANDARD
BEGIN:DAYLIGHT
DTSTART:20210328T020000
TZOFFSETFROM:+0100
TZOFFSETTO:+0200
RDATE:20220327T020000
TZNAME:CEST
END:DAYLIGHT
END:VTIMEZONE
BEGIN:VEVENT
UID:4smnbrg8gjrdha8cbmg9u9ltdn@google.com
DTSTAMP:20210721T193049Z
CATEGORIES:
CONTACT:
DESCRIPTION:Spectacle Jeunesse : Les Contes Improvisés\nPublic\n· Organisé 
 par Le Minou\, ligue d’improvisation théâtrale de MetzRéservation sur Hell
 oAsso+ d’infos : https://www.facebook.com/pg/improMinouMetz/events/?ref=pa
 ge_internal
DTSTART;TZID=Europe/Luxembourg:20190518T160000
DTEND;TZID=Europe/Luxembourg:20190518T170000
LOCATION:Salle Braun\, 18 Avenue Mozart\, 57000 Metz\, France
SEQUENCE:0
SUMMARY:Le MINOU – Salle Braun à Metz – Spectacle Jeunesse
X-ALT-DESC;FMTTYPE=text/html:<!DOCTYPE HTML PUBLIC '-//W3C//DTD HTML 3.2//E
 N'>\\n<HTML>\\n<HEAD>\\n<TITLE></TITLE>\\n</HEAD>\\n<BODY><h1>Spectacle Je
 unesse : Les Contes Improvisés</h1>\n<p><span>Public</span></p>\n<p>· Orga
 nisé par <a href='https://www.facebook.com/improMinouMetz/' target='_blank
 ' rel='noopener'>Le Minou\, ligue d’improvisation théâtrale de Metz</a><br
  />Réservation sur HelloAsso<br />+ d’infos : <a href='https://www.faceboo
 k.com/improMinouMetz/' target='_blank' id='ow2599' rel='noopener'>https://
 www.facebook.com/pg/improMinouMetz/events/?ref=page_internal</a></p>\n</BO
 DY></HTML>
END:VEVENT
END:VCALENDAR
