BEGIN:VCALENDAR
VERSION:2.0
PRODID:-//159.69.87.28//NONSGML kigkonsult.se iCalcreator 2.26.9//
CALSCALE:GREGORIAN
METHOD:PUBLISH
X-WR-CALNAME:F L I
X-WR-CALDESC:Fédération Luxembourgeoise d’Improvisation
X-FROM-URL:https://fli.lu
X-WR-TIMEZONE:Europe/Luxembourg
BEGIN:VTIMEZONE
TZID:Europe/Luxembourg
X-LIC-LOCATION:Europe/Luxembourg
BEGIN:STANDARD
DTSTART:20211031T030000
TZOFFSETFROM:+0200
TZOFFSETTO:+0100
RDATE:20221030T030000
TZNAME:CET
END:STANDARD
BEGIN:DAYLIGHT
DTSTART:20210328T020000
TZOFFSETFROM:+0100
TZOFFSETTO:+0200
RDATE:20220327T020000
TZNAME:CEST
END:DAYLIGHT
END:VTIMEZONE
BEGIN:VEVENT
UID:696vasno5id455eaf1ovqbq54g@google.com
DTSTAMP:20210721T193024Z
CATEGORIES:
CONTACT:
DESCRIPTION:La troupe de l’Odyssée Epistolaire est de retour pour un nouvea
 u roadmovie improvisé! \nQui des quatre comédiens sera le héros? Qui est l
 ’auteur de la lettre scellée qui servira d’impulsion au roadmovie improvis
 é?\nEn attendant d’avoir la réponse à ces questions cruciales\, réservez-v
 ite vos places en envoyant un mail à: odysseeepistolaire@gmail.com. \nEntr
 ée libre\, sortie au chapeau!\nComédiens improvisateurs: Céline CAMARA\, M
 arion FINZI\, Antoine LECLERCQ\, Greg MELMER
DTSTART;TZID=Europe/Luxembourg:20190127T183000
DTEND;TZID=Europe/Luxembourg:20190127T200000
LOCATION:Scott's Pub\, 4 Bisserweg\, 1238 Lëtzebuerg\, Luxembourg
SEQUENCE:0
SUMMARY:L’Odyssée Epistolaire – Roadmovie improvisé
X-ALT-DESC;FMTTYPE=text/html:<!DOCTYPE HTML PUBLIC '-//W3C//DTD HTML 3.2//E
 N'>\\n<HTML>\\n<HEAD>\\n<TITLE></TITLE>\\n</HEAD>\\n<BODY><p>La troupe de 
 l’Odyssée Epistolaire est de retour pour un nouveau roadmovie improvisé! <
 /p>\n<p>Qui des quatre comédiens sera le héros? Qui est l’auteur de la let
 tre scellée qui servira d’impulsion au roadmovie improvisé?</p>\n<p>En att
 endant d’avoir la réponse à ces questions cruciales\, réservez-vite vos pl
 aces en envoyant un mail à: odysseeepistolaire@gmail.com. </p>\n<p>Entrée 
 libre\, sortie au chapeau!</p>\n<p>Comédiens improvisateurs: Céline CAMARA
 \, Marion FINZI\, Antoine LECLERCQ\, Greg MELMER</p>\n</BODY></HTML>
END:VEVENT
END:VCALENDAR
