BEGIN:VCALENDAR
VERSION:2.0
PRODID:-//159.69.87.28//NONSGML kigkonsult.se iCalcreator 2.26.9//
CALSCALE:GREGORIAN
METHOD:PUBLISH
X-WR-CALNAME:F L I
X-WR-CALDESC:Fédération Luxembourgeoise d’Improvisation
X-FROM-URL:https://fli.lu
X-WR-TIMEZONE:Europe/Luxembourg
BEGIN:VTIMEZONE
TZID:Europe/Luxembourg
X-LIC-LOCATION:Europe/Luxembourg
BEGIN:STANDARD
DTSTART:20211031T030000
TZOFFSETFROM:+0200
TZOFFSETTO:+0100
RDATE:20221030T030000
TZNAME:CET
END:STANDARD
BEGIN:DAYLIGHT
DTSTART:20210328T020000
TZOFFSETFROM:+0100
TZOFFSETTO:+0200
RDATE:20220327T020000
TZNAME:CEST
END:DAYLIGHT
END:VTIMEZONE
BEGIN:VEVENT
UID:0vagnj0opcmj4ssktg5f2la67n@google.com
DTSTAMP:20210721T193011Z
CATEGORIES:
CONTACT:
DESCRIPTION:Votre duo d’improvisation préféré 100% féminin est de retour po
 ur une pièce de théâtre entièrement improvisée sur la base d’une impulsion
  du public! \nPour cette représentation de février\, Tout NuEs aura la joi
 e de partager la scène avec un improvisateur bruxellois qui ne vous laisse
 ra pas indifférent! L’identité de cet invité de marque sera prochainement 
 révélé.\nRéservez-vite vos places en envoyant un email à l’adresse suivant
 e: toutnues@gmail.com\nOuverture des portes à 19h30.\nEntrée libre\, sorti
 e au chapeau.
DTSTART;TZID=Europe/Luxembourg:20190228T200000
DTEND;TZID=Europe/Luxembourg:20190228T213000
SEQUENCE:0
SUMMARY:TOUT NUES – Spectacle d’impro (LU)
X-ALT-DESC;FMTTYPE=text/html:<!DOCTYPE HTML PUBLIC '-//W3C//DTD HTML 3.2//E
 N'>\\n<HTML>\\n<HEAD>\\n<TITLE></TITLE>\\n</HEAD>\\n<BODY><p>Votre duo d’i
 mprovisation préféré 100% féminin est de retour pour une pièce de théâtre 
 entièrement improvisée sur la base d’une impulsion du public! </p>\n<p>Pou
 r cette représentation de février\, Tout NuEs aura la joie de partager la 
 scène avec un improvisateur bruxellois qui ne vous laissera pas indifféren
 t! L’identité de cet invité de marque sera prochainement révélé.</p>\n<p>R
 éservez-vite vos places en envoyant un email à l’adresse suivante: toutnue
 s@gmail.com</p>\n<p>Ouverture des portes à 19h30.<br />\nEntrée libre\, so
 rtie au chapeau.</p>\n</BODY></HTML>
END:VEVENT
END:VCALENDAR
