BEGIN:VCALENDAR
VERSION:2.0
PRODID:-//159.69.87.28//NONSGML kigkonsult.se iCalcreator 2.26.9//
CALSCALE:GREGORIAN
METHOD:PUBLISH
X-WR-CALNAME:F L I
X-WR-CALDESC:Fédération Luxembourgeoise d’Improvisation
X-FROM-URL:https://fli.lu
X-WR-TIMEZONE:Europe/Luxembourg
BEGIN:VTIMEZONE
TZID:Europe/Luxembourg
X-LIC-LOCATION:Europe/Luxembourg
BEGIN:STANDARD
DTSTART:20211031T030000
TZOFFSETFROM:+0200
TZOFFSETTO:+0100
RDATE:20221030T030000
TZNAME:CET
END:STANDARD
BEGIN:DAYLIGHT
DTSTART:20210328T020000
TZOFFSETFROM:+0100
TZOFFSETTO:+0200
RDATE:20220327T020000
TZNAME:CEST
END:DAYLIGHT
END:VTIMEZONE
BEGIN:VEVENT
UID:5fjs3tqfk3ttc4loccmbimhfvr@google.com
DTSTAMP:20210721T192958Z
CATEGORIES:
CONTACT:
DESCRIPTION:Formateurs : 5 : Nicolas MICHON\, Brigitte SOUCY\, Frédéric Bar
 busci\, Mathieu Lepage et Olivier Fiset
DTSTART;VALUE=DATE:20190826
DTEND;VALUE=DATE:20190831
LOCATION:Montréal\, QC\, Canada
SEQUENCE:0
SUMMARY:Stage à Montréal – Complet
X-ALT-DESC;FMTTYPE=text/html:<!DOCTYPE HTML PUBLIC '-//W3C//DTD HTML 3.2//E
 N'>\\n<HTML>\\n<HEAD>\\n<TITLE></TITLE>\\n</HEAD>\\n<BODY><p>Formateurs : 
 5 : Nicolas MICHON\, Brigitte SOUCY\, Frédéric Barbusci\, Mathieu Lepage e
 t Olivier Fiset</p>\n</BODY></HTML>
END:VEVENT
END:VCALENDAR
