BEGIN:VCALENDAR
VERSION:2.0
PRODID:-//159.69.87.28//NONSGML kigkonsult.se iCalcreator 2.26.9//
CALSCALE:GREGORIAN
METHOD:PUBLISH
X-WR-CALNAME:F L I
X-WR-CALDESC:Fédération Luxembourgeoise d’Improvisation
X-FROM-URL:https://fli.lu
X-WR-TIMEZONE:Europe/Luxembourg
BEGIN:VTIMEZONE
TZID:Europe/Luxembourg
X-LIC-LOCATION:Europe/Luxembourg
BEGIN:STANDARD
DTSTART:20211031T030000
TZOFFSETFROM:+0200
TZOFFSETTO:+0100
RDATE:20221030T030000
TZNAME:CET
END:STANDARD
BEGIN:DAYLIGHT
DTSTART:20210328T020000
TZOFFSETFROM:+0100
TZOFFSETTO:+0200
RDATE:20220327T020000,20230326T020000
TZNAME:CEST
END:DAYLIGHT
END:VTIMEZONE
BEGIN:VEVENT
UID:3h97d38g4n1guojacbsbtq3k63@google.com
DTSTAMP:20211006T140918Z
CATEGORIES:
CONTACT:
DESCRIPTION:LA BOITE A OUTIL DE L’IMPRO\nDans cet atelier\, Joe partagera a
 vec vous des outils relatifs au travail scénique et à la création de perso
 nnages. Sa boîte à outils et les techniques qu’elle renferme sont le fruit
  de plus de 40 ans d’improvisation. L’objectif de ce workshop est d’aider 
 les improvisateurs à aller au-delà des éléments négatifs (anxiété\, confus
 ion) au profit d’une réelle écoute de soi-même et d’une vraie connexion av
 ec son partenaire de jeu et avec la situation jouée. En début de séances\,
  les participants partageront leurs rêves et leurs souhaits d’improvisateu
 r·rice et Joe se chargera de les réaliser.\nTarif: normal: 80 euros – tari
 f réduit: 60 euros\nLangues: anglais & français\nInformations et pré-inscr
 iptions: recklesslux@gmail.com
DTSTART;TZID=Europe/Luxembourg:20190316T120000
DTEND;TZID=Europe/Luxembourg:20190316T173000
LOCATION:29 Boulevard Grande-Duchesse Charlotte\, 1331 Luxembourg
SEQUENCE:0
SUMMARY:Workshop avec Joe Bill (Chicago) – La boîte à outil de l’impro
X-ALT-DESC;FMTTYPE=text/html:<!DOCTYPE HTML PUBLIC '-//W3C//DTD HTML 3.2//E
 N'>\\n<HTML>\\n<HEAD>\\n<TITLE></TITLE>\\n</HEAD>\\n<BODY><p>LA BOITE A OU
 TIL DE L’IMPRO</p>\n<p>Dans cet atelier\, Joe partagera avec vous des outi
 ls relatifs au travail scénique et à la création de personnages. Sa boîte 
 à outils et les techniques qu’elle renferme sont le fruit de plus de 40 an
 s d’improvisation. L’objectif de ce workshop est d’aider les improvisateur
 s à aller au-delà des éléments négatifs (anxiété\, confusion) au profit d’
 une réelle écoute de soi-même et d’une vraie connexion avec son partenaire
  de jeu et avec la situation jouée. En début de séances\, les participants
  partageront leurs rêves et leurs souhaits d’improvisateur·rice et Joe se 
 chargera de les réaliser.</p>\n<p>Tarif: normal: 80 euros – tarif réduit: 
 60 euros<br />\nLangues: anglais & français</p>\n<p>Informations et pré-in
 scriptions: recklesslux@gmail.com</p>\n</BODY></HTML>
END:VEVENT
END:VCALENDAR
