BEGIN:VCALENDAR
VERSION:2.0
PRODID:-//159.69.87.28//NONSGML kigkonsult.se iCalcreator 2.26.9//
CALSCALE:GREGORIAN
METHOD:PUBLISH
X-WR-CALNAME:F L I
X-WR-CALDESC:Fédération Luxembourgeoise d’Improvisation
X-FROM-URL:https://fli.lu
X-WR-TIMEZONE:Europe/Luxembourg
BEGIN:VTIMEZONE
TZID:Europe/Luxembourg
X-LIC-LOCATION:Europe/Luxembourg
BEGIN:STANDARD
DTSTART:20211031T030000
TZOFFSETFROM:+0200
TZOFFSETTO:+0100
RDATE:20221030T030000
TZNAME:CET
END:STANDARD
BEGIN:DAYLIGHT
DTSTART:20210328T020000
TZOFFSETFROM:+0100
TZOFFSETTO:+0200
RDATE:20220327T020000,20230326T020000
TZNAME:CEST
END:DAYLIGHT
END:VTIMEZONE
BEGIN:VEVENT
UID:1hea64cq8qbkvgdoqk9l5l355e@google.com
DTSTAMP:20211006T140905Z
CATEGORIES:
CONTACT:
DESCRIPTION:PLAYING THE GAME OF THE SCENE AND THE SCENE OF THE GAME\nLors d
 e cet atelier\, nous travaillerons sur la spécificité des techniques propr
 es à l’impro dite courte et à l’impro dite longue. L’objectif sera ensuite
  d’articuler ces techniques et d’explorer leur complémentarité dans le but
  de jouer des personnages plus aiguisés et plus crédibles. On se focaliser
 a sur la dynamique psychologique entre les personnages.\nPour être polyval
 ent\, l’improvisateur.rice doit adapter sa gymnastique cérébrale. Ce works
 hop vous apportera des techniques qui vous permettront de vous adapter que
 l que soit le format de spectacles auquel vous participerez !\nLangues: fr
 ançais et anglais\nInformations et pré-inscriptions: recklesslux@gmail.com
DTSTART;TZID=Europe/Luxembourg:20190317T110000
DTEND;TZID=Europe/Luxembourg:20190317T180000
LOCATION:29 Boulevard Grande-Duchesse Charlotte\, 1331 Luxembourg
SEQUENCE:0
SUMMARY:Workshop avec Joe Bill (Chicago) – Playing the game of the scene an
 d the scene of the game
X-ALT-DESC;FMTTYPE=text/html:<!DOCTYPE HTML PUBLIC '-//W3C//DTD HTML 3.2//E
 N'>\\n<HTML>\\n<HEAD>\\n<TITLE></TITLE>\\n</HEAD>\\n<BODY><p>PLAYING THE G
 AME OF THE SCENE AND THE SCENE OF THE GAME</p>\n<p>Lors de cet atelier\, n
 ous travaillerons sur la spécificité des techniques propres à l’impro dite
  courte et à l’impro dite longue. L’objectif sera ensuite d’articuler ces 
 techniques et d’explorer leur complémentarité dans le but de jouer des per
 sonnages plus aiguisés et plus crédibles. On se focalisera sur la dynamiqu
 e psychologique entre les personnages.</p>\n<p>Pour être polyvalent\, l’im
 provisateur.rice doit adapter sa gymnastique cérébrale. Ce workshop vous a
 pportera des techniques qui vous permettront de vous adapter quel que soit
  le format de spectacles auquel vous participerez !</p>\n<p>Langues: franç
 ais et anglais<br />\nInformations et pré-inscriptions: recklesslux@gmail.
 com</p>\n</BODY></HTML>
END:VEVENT
END:VCALENDAR
