BEGIN:VCALENDAR
VERSION:2.0
PRODID:-//159.69.87.28//NONSGML kigkonsult.se iCalcreator 2.26.9//
CALSCALE:GREGORIAN
METHOD:PUBLISH
X-WR-CALNAME:F L I
X-WR-CALDESC:Fédération Luxembourgeoise d’Improvisation
X-FROM-URL:https://fli.lu
X-WR-TIMEZONE:Europe/Luxembourg
BEGIN:VTIMEZONE
TZID:Europe/Luxembourg
X-LIC-LOCATION:Europe/Luxembourg
BEGIN:STANDARD
DTSTART:20211031T030000
TZOFFSETFROM:+0200
TZOFFSETTO:+0100
RDATE:20221030T030000
TZNAME:CET
END:STANDARD
BEGIN:DAYLIGHT
DTSTART:20210328T020000
TZOFFSETFROM:+0100
TZOFFSETTO:+0200
RDATE:20220327T020000,20230326T020000
TZNAME:CEST
END:DAYLIGHT
END:VTIMEZONE
BEGIN:VEVENT
UID:5g1b8ucc38092cie2lqeoqbl0e@google.com
DTSTAMP:20211006T140853Z
CATEGORIES:
CONTACT:
DESCRIPTION:Reckless – Spectacle international d’improvisation théâtrale \n
 Pour leur prochain spectacle\, Céline et Greg invitent deux incroyables im
 provisateurs à partager la scène avec eux. Venez un spectacle internationa
 l unique faisant honneur au multilinguisme de notre petit pays. Sur scène\
 , nous parlerons anglais\, français\, espagnol et luxembourgeois. Vous sav
 ez à quel point la diversité linguistique est source de malentendus\, quip
 roquos\, conflits\, absurdité\, moments de grâce! Venez vivre tout ça avec
  nous\, nos improvisations seront inspirées par vous : par un mot\, une qu
 estion\, une phrase\, une émotion etc.\nNos guests  pour cette soirée exce
 ptionnelle sont Monsieur Joe Bill\, rock star de l’improvisation internati
 onal qui joue dans les plus grands festivals à travers le monde et Madame 
 Raquel Racionero qui nous vient de Madrid et qui a notamment représente l’
 Espagne dans le projet européen ‘Our Lives’.\nRéservation par mail à reckl
 esslux@gmail.com\nEntrée : 10€ en prévente / 13€ à la caisse du soir / étu
 diants : 8€\nOuverture des portes à 20h
DTSTART;TZID=Europe/Luxembourg:20190316T203000
DTEND;TZID=Europe/Luxembourg:20190316T223000
LOCATION:Centre Culturel Altrimenti\, 5 Avenue Marie-Thérèse\, 2132 Luxembo
 urg
SEQUENCE:0
SUMMARY:Céline & Greg (LUX) – Spectacle international d’impro avec Joe Bill
  (Chicago)
X-ALT-DESC;FMTTYPE=text/html:<!DOCTYPE HTML PUBLIC '-//W3C//DTD HTML 3.2//E
 N'>\\n<HTML>\\n<HEAD>\\n<TITLE></TITLE>\\n</HEAD>\\n<BODY><p>Reckless – Sp
 ectacle international d’improvisation théâtrale </p>\n<p>Pour leur prochai
 n spectacle\, Céline et Greg invitent deux incroyables improvisateurs à pa
 rtager la scène avec eux. Venez un spectacle international unique faisant 
 honneur au multilinguisme de notre petit pays. Sur scène\, nous parlerons 
 anglais\, français\, espagnol et luxembourgeois. Vous savez à quel point l
 a diversité linguistique est source de malentendus\, quiproquos\, conflits
 \, absurdité\, moments de grâce! Venez vivre tout ça avec nous\, nos impro
 visations seront inspirées par vous : par un mot\, une question\, une phra
 se\, une émotion etc.</p>\n<p>Nos guests  pour cette soirée exceptionnelle
  sont Monsieur Joe Bill\, rock star de l’improvisation international qui j
 oue dans les plus grands festivals à travers le monde et Madame Raquel Rac
 ionero qui nous vient de Madrid et qui a notamment représente l’Espagne da
 ns le projet européen ‘Our Lives’.</p>\n<p>Réservation par mail à reckless
 lux@gmail.com<br />\nEntrée : 10€ en prévente / 13€ à la caisse du soir / 
 étudiants : 8€<br />\nOuverture des portes à 20h</p>\n</BODY></HTML>
END:VEVENT
END:VCALENDAR
