BEGIN:VCALENDAR
VERSION:2.0
PRODID:-//159.69.87.28//NONSGML kigkonsult.se iCalcreator 2.26.9//
CALSCALE:GREGORIAN
METHOD:PUBLISH
X-WR-CALNAME:F L I
X-WR-CALDESC:Fédération Luxembourgeoise d’Improvisation
X-FROM-URL:https://fli.lu
X-WR-TIMEZONE:Europe/Luxembourg
BEGIN:VTIMEZONE
TZID:Europe/Luxembourg
X-LIC-LOCATION:Europe/Luxembourg
BEGIN:STANDARD
DTSTART:20201025T030000
TZOFFSETFROM:+0200
TZOFFSETTO:+0100
RDATE:20211031T030000
TZNAME:CET
END:STANDARD
BEGIN:DAYLIGHT
DTSTART:20210328T020000
TZOFFSETFROM:+0100
TZOFFSETTO:+0200
RDATE:20220327T020000
TZNAME:CEST
END:DAYLIGHT
END:VTIMEZONE
BEGIN:VEVENT
UID:4mf3hs1v6k68127583emmp807b@google.com
DTSTAMP:20210420T034534Z
CATEGORIES:
CONTACT:
DESCRIPTION:Pour conclure la visite de notre guest Joe Bill au Luxembourg n
 ous organisons le 19.03 le tout premier ImproJam au Gudde Wëllen. Viens vo
 ir des improvisateurs du Luxembourg et de la FLI (Fédération Luxembourgeoi
 se d’impro) monter sur scène et enchaîner les impros avec notre guest. \nS
 i tu veux faire partie du public et passer un bon moment à boire des coups
  et voir de l’impro alors envoie- nous un petit mail à recklesslux@gmail.c
 om pour réserver ta place.\nDébut 20h\nOuverture des portes: 19h30\nEntrée
  : libre sortie au chapeau
DTSTART;TZID=Europe/Luxembourg:20190319T200000
DTEND;TZID=Europe/Luxembourg:20190319T223000
LOCATION:De Gudde Wëllen\, 17 Rue du St Esprit\, 1475 Luxembourg
SEQUENCE:0
SUMMARY:LUXEMBOURG – ImproJam – Spectacle avec Joe Bill (Chicago)
X-ALT-DESC;FMTTYPE=text/html:<!DOCTYPE HTML PUBLIC '-//W3C//DTD HTML 3.2//E
 N'>\\n<HTML>\\n<HEAD>\\n<TITLE></TITLE>\\n</HEAD>\\n<BODY><p>Pour conclure
  la visite de notre guest Joe Bill au Luxembourg nous organisons le 19.03 
 le tout premier ImproJam au Gudde Wëllen. Viens voir des improvisateurs du
  Luxembourg et de la FLI (Fédération Luxembourgeoise d’impro) monter sur s
 cène et enchaîner les impros avec notre guest. </p>\n<p>Si tu veux faire p
 artie du public et passer un bon moment à boire des coups et voir de l’imp
 ro alors envoie- nous un petit mail à recklesslux@gmail.com pour réserver 
 ta place.</p>\n<p>Début 20h<br />\nOuverture des portes: 19h30<br />\nEntr
 ée : libre sortie au chapeau</p>\n</BODY></HTML>
END:VEVENT
END:VCALENDAR
