BEGIN:VCALENDAR
VERSION:2.0
PRODID:-//159.69.87.28//NONSGML kigkonsult.se iCalcreator 2.26.9//
CALSCALE:GREGORIAN
METHOD:PUBLISH
X-WR-CALNAME:F L I
X-WR-CALDESC:Fédération Luxembourgeoise d’Improvisation
X-FROM-URL:https://fli.lu
X-WR-TIMEZONE:Europe/Luxembourg
BEGIN:VTIMEZONE
TZID:Europe/Luxembourg
X-LIC-LOCATION:Europe/Luxembourg
BEGIN:STANDARD
DTSTART:20211031T030000
TZOFFSETFROM:+0200
TZOFFSETTO:+0100
RDATE:20221030T030000
TZNAME:CET
END:STANDARD
BEGIN:DAYLIGHT
DTSTART:20210328T020000
TZOFFSETFROM:+0100
TZOFFSETTO:+0200
RDATE:20220327T020000,20230326T020000
TZNAME:CEST
END:DAYLIGHT
END:VTIMEZONE
BEGIN:VEVENT
UID:7ceu9nohlfja0g11a7gubtg5r8@google.com
DTSTAMP:20211006T140836Z
CATEGORIES:
CONTACT:
DESCRIPTION:<p>La célèbre Ligue Nationale d’Improvisation du Québec (LNI)\,
  référence mondiale du match d’impro\,<br />reviendra au Luxembourg le sam
 edi 30 mars 2019.</p>\n<p>Cette redoutable équipe sera composée de:<br />J
 ean-François Aubé\,<br />Salomé Corbo\,<br />Amélie Geoffroy\,<br />Frédér
 ic Barbusci!</p>\n<p>Ouverture des portes: 19h30</p>\n<p>Début du match: 2
 0hrs</p>\n<p>Tramsschapp Limpertsberg<br />49 Rue Ermesinde<br />L-1469 Lu
 xembourg<br />LUXEMBOURG</p>\n<p>Réservez ici:<a href='https://www.weezeve
 nt.com/luxembourg-vs-canada'> https://www.weezevent.com/luxembourg-vs-cana
 da</a></p>
DTSTART;TZID=Europe/Luxembourg:20190330T200000
DTEND;TZID=Europe/Luxembourg:20190330T220000
LOCATION:Tramsschapp\, 49 Rue Ermesinde\, 1469 Luxembourg
SEQUENCE:0
SUMMARY:LNI vs GIPL
END:VEVENT
END:VCALENDAR
