BEGIN:VCALENDAR
VERSION:2.0
PRODID:-//159.69.87.28//NONSGML kigkonsult.se iCalcreator 2.26.9//
CALSCALE:GREGORIAN
METHOD:PUBLISH
X-WR-CALNAME:F L I
X-WR-CALDESC:Fédération Luxembourgeoise d’Improvisation
X-FROM-URL:https://fli.lu
X-WR-TIMEZONE:Europe/Luxembourg
BEGIN:VTIMEZONE
TZID:Europe/Luxembourg
X-LIC-LOCATION:Europe/Luxembourg
BEGIN:STANDARD
DTSTART:20211031T030000
TZOFFSETFROM:+0200
TZOFFSETTO:+0100
RDATE:20221030T030000
TZNAME:CET
END:STANDARD
BEGIN:DAYLIGHT
DTSTART:20210328T020000
TZOFFSETFROM:+0100
TZOFFSETTO:+0200
RDATE:20220327T020000,20230326T020000
TZNAME:CEST
END:DAYLIGHT
END:VTIMEZONE
BEGIN:VEVENT
UID:59a8gqsop6vq9prhkousvci95k@google.com
DTSTAMP:20211006T140814Z
CATEGORIES:
CONTACT:
DESCRIPTION:https://www.facebook.com/events/309575463085719/
DTSTART;TZID=Europe/Luxembourg:20190426T200000
DTEND;TZID=Europe/Luxembourg:20190426T223000
LOCATION:Mpaa Saint Germain\, 4 Rue Félibien\, 75006 Paris\, France
SEQUENCE:0
SUMMARY:Match LIP – BELUX (FLI-FBIA)
X-ALT-DESC;FMTTYPE=text/html:<!DOCTYPE HTML PUBLIC '-//W3C//DTD HTML 3.2//E
 N'>\\n<HTML>\\n<HEAD>\\n<TITLE></TITLE>\\n</HEAD>\\n<BODY><p><a href='http
 s://www.facebook.com/events/309575463085719/' id='ow280'>https://www.faceb
 ook.com/events/309575463085719/</a></p>\n</BODY></HTML>
END:VEVENT
END:VCALENDAR
