BEGIN:VCALENDAR
VERSION:2.0
PRODID:-//159.69.87.28//NONSGML kigkonsult.se iCalcreator 2.26.9//
CALSCALE:GREGORIAN
METHOD:PUBLISH
X-WR-CALNAME:F L I
X-WR-CALDESC:Fédération Luxembourgeoise d’Improvisation
X-FROM-URL:https://fli.lu
X-WR-TIMEZONE:Europe/Luxembourg
BEGIN:VTIMEZONE
TZID:Europe/Luxembourg
X-LIC-LOCATION:Europe/Luxembourg
BEGIN:STANDARD
DTSTART:20211031T030000
TZOFFSETFROM:+0200
TZOFFSETTO:+0100
RDATE:20221030T030000
TZNAME:CET
END:STANDARD
BEGIN:DAYLIGHT
DTSTART:20210328T020000
TZOFFSETFROM:+0100
TZOFFSETTO:+0200
RDATE:20220327T020000,20230326T020000
TZNAME:CEST
END:DAYLIGHT
END:VTIMEZONE
BEGIN:VEVENT
UID:46f98hfnaok4ehk9jrbjnst2hg@google.com
DTSTAMP:20211006T140801Z
CATEGORIES:
CONTACT:
DESCRIPTION:Pendant le Festival « Mécleuves En Scène »\, Le bordel sera heu
 reux de vous présenter « Le Motel »\, où toute les histoire vont se faire 
 dans des chambres du petit hôtel pas très charmant\, mais façon « Bordel »
DTSTART;TZID=Europe/Luxembourg:20190330T170000
DTEND;TZID=Europe/Luxembourg:20190330T180000
LOCATION:Impasse du Lanceumont Lanceumont\, 57245 Mécleuves\, France
SEQUENCE:0
SUMMARY:Le Bordel – Festival Mécleuves En Scène – Motel
X-ALT-DESC;FMTTYPE=text/html:<!DOCTYPE HTML PUBLIC '-//W3C//DTD HTML 3.2//E
 N'>\\n<HTML>\\n<HEAD>\\n<TITLE></TITLE>\\n</HEAD>\\n<BODY><p>Pendant le Fe
 stival « Mécleuves En Scène »\, Le bordel sera heureux de vous présenter «
  Le Motel »\, où toute les histoire vont se faire dans des chambres du pet
 it hôtel pas très charmant\, mais façon « Bordel »</p>\n</BODY></HTML>
END:VEVENT
END:VCALENDAR
