BEGIN:VCALENDAR
VERSION:2.0
PRODID:-//159.69.87.28//NONSGML kigkonsult.se iCalcreator 2.26.9//
CALSCALE:GREGORIAN
METHOD:PUBLISH
X-WR-CALNAME:F L I
X-WR-CALDESC:Fédération Luxembourgeoise d’Improvisation
X-FROM-URL:https://fli.lu
X-WR-TIMEZONE:Europe/Luxembourg
BEGIN:VTIMEZONE
TZID:Europe/Luxembourg
X-LIC-LOCATION:Europe/Luxembourg
BEGIN:STANDARD
DTSTART:20211031T030000
TZOFFSETFROM:+0200
TZOFFSETTO:+0100
RDATE:20221030T030000
TZNAME:CET
END:STANDARD
BEGIN:DAYLIGHT
DTSTART:20210328T020000
TZOFFSETFROM:+0100
TZOFFSETTO:+0200
RDATE:20220327T020000,20230326T020000
TZNAME:CEST
END:DAYLIGHT
END:VTIMEZONE
BEGIN:VEVENT
UID:2v22jk862n6jiglpkrnf8a2rf4@google.com
DTSTAMP:20211006T140748Z
CATEGORIES:
CONTACT:
DESCRIPTION:https://www.facebook.com/events/703002510101788/\nLe Poil reçoi
 t les Koi pour un spectacle orchestré par le talentueux Cédric Lacrouts. V
 enez plonger au coeur de très belles histoires improvisées que les jouteur
 s construiront à partir d’anecdotes. Toutes ces histoires\, qui s’appuiero
 nt sur la relation entre les personnages vont s’entrecroiser pour vous inv
 iter à un fabuleux voyage.\nRéservations : resa@poil.lu\nDébut du spectacl
 e : 20h30Ouverture des portes : 20h00
DTSTART;TZID=Europe/Luxembourg:20190406T200000
DTEND;TZID=Europe/Luxembourg:20190406T231500
LOCATION:Centre Culturel Altrimenti\, 5 Avenue Marie-Thérèse\, 2132 Luxembo
 urg
SEQUENCE:0
SUMMARY:POIL / KOI – Historias Minimas
X-ALT-DESC;FMTTYPE=text/html:<!DOCTYPE HTML PUBLIC '-//W3C//DTD HTML 3.2//E
 N'>\\n<HTML>\\n<HEAD>\\n<TITLE></TITLE>\\n</HEAD>\\n<BODY><p><a href='http
 s://www.facebook.com/events/703002510101788/' id='ow373'>https://www.faceb
 ook.com/events/703002510101788/</a></p>\n<p>Le Poil reçoit les Koi pour un
  spectacle orchestré par le talentueux Cédric Lacrouts. Venez plonger au c
 oeur de très belles histoires improvisées que les jouteurs construiront à 
 partir d’anecdotes. <br />Toutes ces histoires\, qui s’appuieront sur la r
 elation entre les personnages vont s’entrecroiser pour vous inviter à un f
 abuleux voyage.</p>\n<p>Réservations : resa@poil.lu</p>\n<p>Début du spect
 acle : 20h30<br />Ouverture des portes : 20h00</p>\n</BODY></HTML>
END:VEVENT
END:VCALENDAR
