BEGIN:VCALENDAR
VERSION:2.0
PRODID:-//159.69.87.28//NONSGML kigkonsult.se iCalcreator 2.26.9//
CALSCALE:GREGORIAN
METHOD:PUBLISH
X-WR-CALNAME:F L I
X-WR-CALDESC:Fédération Luxembourgeoise d’Improvisation
X-FROM-URL:https://fli.lu
X-WR-TIMEZONE:Europe/Luxembourg
BEGIN:VTIMEZONE
TZID:Europe/Luxembourg
X-LIC-LOCATION:Europe/Luxembourg
BEGIN:STANDARD
DTSTART:20211031T030000
TZOFFSETFROM:+0200
TZOFFSETTO:+0100
RDATE:20221030T030000
TZNAME:CET
END:STANDARD
BEGIN:DAYLIGHT
DTSTART:20210328T020000
TZOFFSETFROM:+0100
TZOFFSETTO:+0200
RDATE:20220327T020000,20230326T020000
TZNAME:CEST
END:DAYLIGHT
END:VTIMEZONE
BEGIN:VEVENT
UID:27ehheklr4ji6ec5r4jra1nukb@google.com
DTSTAMP:20211006T140731Z
CATEGORIES:
CONTACT:
DESCRIPTION:<p>Public cible du stage: perfectionnement pour comédiens et ac
 teurs<br />\nLa technique Meisner est une série d’exercices conçus pour fo
 caliser l’attention sur votre partenaire de jeu. L’intention de Meisner ét
 ait de transférer l’attention sur l’autre\, en vous ancrant simultanément 
 dans le moment présent. Plus tard\, il y ajouta un autre ensemble d’exerci
 ces visant à aider l’acteur à comprendre le ressenti de circonstances donn
 ées procurées par le texte et par son metteur en scène. Enfin\, une série 
 de techniques complémentaires permettent de redécouvrir les circonstances 
 que vous êtes supposé(e) transmettre à un niveau organique.</p>
DTSTART;VALUE=DATE:20190622
DTEND;VALUE=DATE:20190624
SEQUENCE:0
SUMMARY:The Meisner Technique – Stage Keith Farquhar
END:VEVENT
END:VCALENDAR
