BEGIN:VCALENDAR
VERSION:2.0
PRODID:-//159.69.87.28//NONSGML kigkonsult.se iCalcreator 2.26.9//
CALSCALE:GREGORIAN
METHOD:PUBLISH
X-WR-CALNAME:F L I
X-WR-CALDESC:Fédération Luxembourgeoise d’Improvisation
X-FROM-URL:https://fli.lu
X-WR-TIMEZONE:Europe/Luxembourg
BEGIN:VTIMEZONE
TZID:Europe/Luxembourg
X-LIC-LOCATION:Europe/Luxembourg
BEGIN:STANDARD
DTSTART:20211031T030000
TZOFFSETFROM:+0200
TZOFFSETTO:+0100
RDATE:20221030T030000
TZNAME:CET
END:STANDARD
BEGIN:DAYLIGHT
DTSTART:20210328T020000
TZOFFSETFROM:+0100
TZOFFSETTO:+0200
RDATE:20220327T020000,20230326T020000
TZNAME:CEST
END:DAYLIGHT
END:VTIMEZONE
BEGIN:VEVENT
UID:0qc1mlat6c9vcnhud5kdhd9f8t@google.com
DTSTAMP:20211006T141125Z
CATEGORIES:
CONTACT:
DESCRIPTION:La Petite troupe d’a Cote a l’honneur de recevoir la Bagasse\, 
 compagnie professionnelle de l’Ile de la Réunion en tournée en Europe.\nNe
  ratez pas ce spectacle inédit qui vous réservera de nombreuses surprises!
 \nInfos et réservations: recklesslux@gmail.com
DTSTART;TZID=Europe/Luxembourg:20190510T200000
DTEND;TZID=Europe/Luxembourg:20190510T220000
LOCATION:De Gudde Wëllen\, 17 Rue du St Esprit\, 1475 Luxembourg
SEQUENCE:0
SUMMARY:PETACO & La Bagasse (Île de La Réunion) – LUX
X-ALT-DESC;FMTTYPE=text/html:<!DOCTYPE HTML PUBLIC '-//W3C//DTD HTML 3.2//E
 N'>\\n<HTML>\\n<HEAD>\\n<TITLE></TITLE>\\n</HEAD>\\n<BODY><p>La Petite tro
 upe d’a Cote a l’honneur de recevoir la Bagasse\, compagnie professionnell
 e de l’Ile de la Réunion en tournée en Europe.</p>\n<p>Ne ratez pas ce spe
 ctacle inédit qui vous réservera de nombreuses surprises!</p>\n<p>Infos et
  réservations: recklesslux@gmail.com</p>\n</BODY></HTML>
END:VEVENT
END:VCALENDAR
