BEGIN:VCALENDAR
VERSION:2.0
PRODID:-//159.69.87.28//NONSGML kigkonsult.se iCalcreator 2.26.9//
CALSCALE:GREGORIAN
METHOD:PUBLISH
X-WR-CALNAME:F L I
X-WR-CALDESC:Fédération Luxembourgeoise d’Improvisation
X-FROM-URL:https://fli.lu
X-WR-TIMEZONE:Europe/Luxembourg
BEGIN:VTIMEZONE
TZID:Europe/Luxembourg
X-LIC-LOCATION:Europe/Luxembourg
BEGIN:STANDARD
DTSTART:20211031T030000
TZOFFSETFROM:+0200
TZOFFSETTO:+0100
RDATE:20221030T030000
TZNAME:CET
END:STANDARD
BEGIN:DAYLIGHT
DTSTART:20210328T020000
TZOFFSETFROM:+0100
TZOFFSETTO:+0200
RDATE:20220327T020000,20230326T020000
TZNAME:CEST
END:DAYLIGHT
END:VTIMEZONE
BEGIN:VEVENT
UID:4m9va10fuqutaqraag212jc73e@google.com
DTSTAMP:20211006T141113Z
CATEGORIES:
CONTACT:
DESCRIPTION:Dans cet atelier résolument tourné vers la créativité\, nous ve
 rrons comment partir du quotidien pour ouvrir les portes de mondes étrange
 s et décalés\, mais dont les racines sont ancrées dans notre réalité. Vene
 z récupérer des outils pour utiliser la créativité de votre partenaire com
 me si c’était la vôtre !\nNe ratez pas ce stage inédit dispensé par Eddy G
 rondin\, improvisateur professionnel de l’Île de La Réunion de passage au 
 Luxembourg.\nHoraires: 9h – 13h\nLieu: Luxembourg-ville (l’adresse sera co
 mmuniquée aux participants ultérieurement)\nTarif: EARLY BIRD 45 euros (in
 scription avant le 15 avril) – NORMAL 55 euros \nInfos et inscriptions: re
 cklesslux@gmail.com
DTSTART;TZID=Europe/Luxembourg:20190511T090000
DTEND;TZID=Europe/Luxembourg:20190511T130000
LOCATION:Luxembourg City\, Luxembourg
SEQUENCE:0
SUMMARY:STAGE – Refais le monde! avec la Cie pro La Bagasse (Île de La Réun
 ion) Lux-Ville
X-ALT-DESC;FMTTYPE=text/html:<!DOCTYPE HTML PUBLIC '-//W3C//DTD HTML 3.2//E
 N'>\\n<HTML>\\n<HEAD>\\n<TITLE></TITLE>\\n</HEAD>\\n<BODY><p>Dans cet atel
 ier résolument tourné vers la créativité\, nous verrons comment partir du 
 quotidien pour ouvrir les portes de mondes étranges et décalés\, mais dont
  les racines sont ancrées dans notre réalité. Venez récupérer des outils p
 our utiliser la créativité de votre partenaire comme si c’était la vôtre !
 </p>\n<p>Ne ratez pas ce stage inédit dispensé par Eddy Grondin\, improvis
 ateur professionnel de l’Île de La Réunion de passage au Luxembourg.</p>\n
 <p>Horaires: 9h – 13h<br />\nLieu: Luxembourg-ville (l’adresse sera commun
 iquée aux participants ultérieurement)</p>\n<p>Tarif: EARLY BIRD 45 euros 
 (inscription avant le 15 avril) – NORMAL 55 euros </p>\n<p>Infos et inscri
 ptions: recklesslux@gmail.com</p>\n</BODY></HTML>
END:VEVENT
END:VCALENDAR
