BEGIN:VCALENDAR
VERSION:2.0
PRODID:-//159.69.87.28//NONSGML kigkonsult.se iCalcreator 2.26.9//
CALSCALE:GREGORIAN
METHOD:PUBLISH
X-WR-CALNAME:F L I
X-WR-CALDESC:Fédération Luxembourgeoise d’Improvisation
X-FROM-URL:https://fli.lu
X-WR-TIMEZONE:Europe/Luxembourg
BEGIN:VTIMEZONE
TZID:Europe/Luxembourg
X-LIC-LOCATION:Europe/Luxembourg
BEGIN:STANDARD
DTSTART:20211031T030000
TZOFFSETFROM:+0200
TZOFFSETTO:+0100
RDATE:20221030T030000
TZNAME:CET
END:STANDARD
BEGIN:DAYLIGHT
DTSTART:20210328T020000
TZOFFSETFROM:+0100
TZOFFSETTO:+0200
RDATE:20220327T020000
TZNAME:CEST
END:DAYLIGHT
END:VTIMEZONE
BEGIN:VEVENT
UID:3dgv34pg6c5jkad6b46jacbrqo@google.com
DTSTAMP:20210721T193127Z
CATEGORIES:
CONTACT:
DESCRIPTION:Trouver son clown ? Voilà une belle question…Vouloir le cherche
 r\, c’est déjà l’activer. C’est être dans un chemin vers la dérision de so
 i\, faire de ses défauts\, des qualités. Dans le corps\, se libèrent les a
 ngoisses et par le lâcher prise l’histoire née de ce personnage vivant. Et
 re à l’écoute de soi\, laisser la place au silence et vivre l’espace\, le 
 lieu\, les autres\, l’autre\, moi à l’instant présent.\nNe ratez pas ce st
 age inédit dispensé par Zaza\, improvisatrice professionnelle de l’Île de 
 La Réunion de passage au Luxembourg.\nTarif: EARLY BIRD 45 euros (inscript
 ion avant le 15 avril) – NORMAL 55 euros \nInfos et inscriptions: reckless
 lux@gmail.com
DTSTART;TZID=Europe/Luxembourg:20190511T090000
DTEND;TZID=Europe/Luxembourg:20190511T130000
LOCATION:Luxembourg City\, Luxembourg
SEQUENCE:0
SUMMARY:STAGE – Mon Clown avec la Cie pro La Bagasse (Ile de La Réunion) Lu
 x-Ville
X-ALT-DESC;FMTTYPE=text/html:<!DOCTYPE HTML PUBLIC '-//W3C//DTD HTML 3.2//E
 N'>\\n<HTML>\\n<HEAD>\\n<TITLE></TITLE>\\n</HEAD>\\n<BODY><p>Trouver son c
 lown ? Voilà une belle question…Vouloir le chercher\, c’est déjà l’activer
 . C’est être dans un chemin vers la dérision de soi\, faire de ses défauts
 \, des qualités. Dans le corps\, se libèrent les angoisses et par le lâche
 r prise l’histoire née de ce personnage vivant. Etre à l’écoute de soi\, l
 aisser la place au silence et vivre l’espace\, le lieu\, les autres\, l’au
 tre\, moi à l’instant présent.</p>\n<p>Ne ratez pas ce stage inédit dispen
 sé par Zaza\, improvisatrice professionnelle de l’Île de La Réunion de pas
 sage au Luxembourg.</p>\n<p>Tarif: EARLY BIRD 45 euros (inscription avant 
 le 15 avril) – NORMAL 55 euros </p>\n<p>Infos et inscriptions: recklesslux
 @gmail.com</p>\n</BODY></HTML>
END:VEVENT
END:VCALENDAR
