BEGIN:VCALENDAR
VERSION:2.0
PRODID:-//159.69.87.28//NONSGML kigkonsult.se iCalcreator 2.26.9//
CALSCALE:GREGORIAN
METHOD:PUBLISH
X-WR-CALNAME:F L I
X-WR-CALDESC:Fédération Luxembourgeoise d’Improvisation
X-FROM-URL:https://fli.lu
X-WR-TIMEZONE:Europe/Luxembourg
BEGIN:VTIMEZONE
TZID:Europe/Luxembourg
X-LIC-LOCATION:Europe/Luxembourg
BEGIN:STANDARD
DTSTART:20211031T030000
TZOFFSETFROM:+0200
TZOFFSETTO:+0100
RDATE:20221030T030000
TZNAME:CET
END:STANDARD
BEGIN:DAYLIGHT
DTSTART:20210328T020000
TZOFFSETFROM:+0100
TZOFFSETTO:+0200
RDATE:20220327T020000,20230326T020000
TZNAME:CEST
END:DAYLIGHT
END:VTIMEZONE
BEGIN:VEVENT
UID:0dce56b32q2e8ckbfhnadt4vi4@google.com
DTSTAMP:20211006T141048Z
CATEGORIES:
CONTACT:
DESCRIPTION:Ils ne savent pas ce qu’ils vont jouer et vous ne savez pas OÙ 
 ! \nDans ce concept original de “lieu mystérieux” vous serez avertis le jo
 ur même de l’endroit insolite où se déroulera le prochain spectacle d’impr
 ovisation de la Petaco … on vous attend… suspens… réservez vite vos places
  sur resa@petaco.lu\nPROGRAMME:\n19h: accueil du public – 1 verre offert p
 ar la Petaco\n20h-21h45: Spectacle improvisation théâtrale\n21h45: After c
 onvivial \nMINI-INDICE SUR LE LIEU:\nA 20 min de Luxembourg-Ville en direc
 tion du centre du pays. Pour votre confort\, munissez-vous d’un pull chaud
 /manteau au cas où 🙂\nEntrée libre\, sortie au chapeau
DTSTART;TZID=Europe/Luxembourg:20190521T190000
DTEND;TZID=Europe/Luxembourg:20190521T230000
LOCATION:Suprise!!!!
SEQUENCE:0
SUMMARY:PETACO – Spectacle ‘Lieu Mystère’ (LUX)
X-ALT-DESC;FMTTYPE=text/html:<!DOCTYPE HTML PUBLIC '-//W3C//DTD HTML 3.2//E
 N'>\\n<HTML>\\n<HEAD>\\n<TITLE></TITLE>\\n</HEAD>\\n<BODY><p>Ils ne savent
  pas ce qu’ils vont jouer et vous ne savez pas OÙ ! </p>\n<p>Dans ce conce
 pt original de “lieu mystérieux” vous serez avertis le jour même de l’endr
 oit insolite où se déroulera le prochain spectacle d’improvisation de la P
 etaco … on vous attend… suspens… réservez vite vos places sur resa@petaco.
 lu</p>\n<p>PROGRAMME:</p>\n<p>19h: accueil du public – 1 verre offert par 
 la Petaco<br />\n20h-21h45: Spectacle improvisation théâtrale<br />\n21h45
 : After convivial </p>\n<p>MINI-INDICE SUR LE LIEU:</p>\n<p>A 20 min de Lu
 xembourg-Ville en direction du centre du pays. Pour votre confort\, muniss
 ez-vous d’un pull chaud/manteau au cas où 🙂</p>\n<p>Entrée libre\, sortie 
 au chapeau</p>\n</BODY></HTML>
END:VEVENT
END:VCALENDAR
