BEGIN:VCALENDAR
VERSION:2.0
PRODID:-//159.69.87.28//NONSGML kigkonsult.se iCalcreator 2.26.9//
CALSCALE:GREGORIAN
METHOD:PUBLISH
X-WR-CALNAME:F L I
X-WR-CALDESC:Fédération Luxembourgeoise d’Improvisation
X-FROM-URL:https://fli.lu
X-WR-TIMEZONE:Europe/Luxembourg
BEGIN:VTIMEZONE
TZID:Europe/Luxembourg
X-LIC-LOCATION:Europe/Luxembourg
BEGIN:STANDARD
DTSTART:20211031T030000
TZOFFSETFROM:+0200
TZOFFSETTO:+0100
RDATE:20221030T030000
TZNAME:CET
END:STANDARD
BEGIN:DAYLIGHT
DTSTART:20210328T020000
TZOFFSETFROM:+0100
TZOFFSETTO:+0200
RDATE:20220327T020000,20230326T020000
TZNAME:CEST
END:DAYLIGHT
END:VTIMEZONE
BEGIN:VEVENT
UID:511noqnkjq6oudhqgvqgu3e4a7@google.com
DTSTAMP:20211006T141035Z
CATEGORIES:
CONTACT:
DESCRIPTION:/https://www.facebook.com/events/292943571638190/
DTSTART;TZID=Europe/Luxembourg:20190517T203000
DTEND;TZID=Europe/Luxembourg:20190517T223000
LOCATION:29 Boulevard Grande-Duchesse Charlotte\, 1331 Luxembourg
SEQUENCE:0
SUMMARY:La Cie Bloue – IMPRO-BABLE\, spectacle d’improvisation théâtrale
X-ALT-DESC;FMTTYPE=text/html:<!DOCTYPE HTML PUBLIC '-//W3C//DTD HTML 3.2//E
 N'>\\n<HTML>\\n<HEAD>\\n<TITLE></TITLE>\\n</HEAD>\\n<BODY><p>/<a href='htt
 ps://www.facebook.com/events/292943571638190/' id='ow271'>https://www.face
 book.com/events/292943571638190/</a></p>\n</BODY></HTML>
END:VEVENT
END:VCALENDAR
