BEGIN:VCALENDAR
VERSION:2.0
PRODID:-//159.69.87.28//NONSGML kigkonsult.se iCalcreator 2.26.9//
CALSCALE:GREGORIAN
METHOD:PUBLISH
X-WR-CALNAME:F L I
X-WR-CALDESC:Fédération Luxembourgeoise d’Improvisation
X-FROM-URL:https://fli.lu
X-WR-TIMEZONE:Europe/Luxembourg
BEGIN:VTIMEZONE
TZID:Europe/Luxembourg
X-LIC-LOCATION:Europe/Luxembourg
BEGIN:STANDARD
DTSTART:20211031T030000
TZOFFSETFROM:+0200
TZOFFSETTO:+0100
RDATE:20221030T030000
TZNAME:CET
END:STANDARD
BEGIN:DAYLIGHT
DTSTART:20210328T020000
TZOFFSETFROM:+0100
TZOFFSETTO:+0200
RDATE:20220327T020000
TZNAME:CEST
END:DAYLIGHT
END:VTIMEZONE
BEGIN:VEVENT
UID:63pv92cjtiavr8mehrjh3g633q@google.com
DTSTAMP:20210721T192838Z
CATEGORIES:
CONTACT:
DESCRIPTION:<p><a href='https://www.facebook.com/events/493391704527964/' i
 d='ow261'>https://www.facebook.com/events/493391704527964/</a></p>
DTSTART;TZID=Europe/Luxembourg:20190518T200000
DTEND;TZID=Europe/Luxembourg:20190518T230000
LOCATION:Tramsschapp\, 49 Rue Ermesinde\, 1469 Luxembourg
SEQUENCE:0
SUMMARY:GIPL vs HERO CORP
END:VEVENT
END:VCALENDAR
