BEGIN:VCALENDAR
VERSION:2.0
PRODID:-//159.69.87.28//NONSGML kigkonsult.se iCalcreator 2.26.9//
CALSCALE:GREGORIAN
METHOD:PUBLISH
X-WR-CALNAME:F L I
X-WR-CALDESC:Fédération Luxembourgeoise d’Improvisation
X-FROM-URL:https://fli.lu
X-WR-TIMEZONE:Europe/Luxembourg
BEGIN:VTIMEZONE
TZID:Europe/Luxembourg
X-LIC-LOCATION:Europe/Luxembourg
BEGIN:STANDARD
DTSTART:20211031T030000
TZOFFSETFROM:+0200
TZOFFSETTO:+0100
RDATE:20221030T030000
TZNAME:CET
END:STANDARD
BEGIN:DAYLIGHT
DTSTART:20210328T020000
TZOFFSETFROM:+0100
TZOFFSETTO:+0200
RDATE:20220327T020000
TZNAME:CEST
END:DAYLIGHT
END:VTIMEZONE
BEGIN:VEVENT
UID:3el19nsqrsupjjk4n09nqqjki5@google.com
DTSTAMP:20210721T192830Z
CATEGORIES:
CONTACT:
DESCRIPTION:/https://www.facebook.com/events/2259122847672515/Vendredi 14 j
 uin\, venez retrouver les KOI sur une scène de délires.Sortie au chapeau a
 u profit de l’Asbl Agir Ensemble dans la Solidarité pour l’Aide à Autrui.
DTSTART;TZID=Europe/Luxembourg:20190614T203000
DTEND;TZID=Europe/Luxembourg:20190614T230000
LOCATION:29 Boulevard Grande-Duchesse Charlotte\, 1331 Luxembourg
SEQUENCE:0
SUMMARY:Les KOI – Speed dating II
X-ALT-DESC;FMTTYPE=text/html:<!DOCTYPE HTML PUBLIC '-//W3C//DTD HTML 3.2//E
 N'>\\n<HTML>\\n<HEAD>\\n<TITLE></TITLE>\\n</HEAD>\\n<BODY><p>/<a href='htt
 ps://www.facebook.com/events/2259122847672515/' id='ow318'>https://www.fac
 ebook.com/events/2259122847672515/</a><br />Vendredi 14 juin\, venez retro
 uver les KOI sur une scène de délires.<br />Sortie au chapeau au profit de
  l’Asbl Agir Ensemble dans la Solidarité pour l’Aide à Autrui.</p>\n</BODY
 ></HTML>
END:VEVENT
END:VCALENDAR
