BEGIN:VCALENDAR
VERSION:2.0
PRODID:-//159.69.87.28//NONSGML kigkonsult.se iCalcreator 2.26.9//
CALSCALE:GREGORIAN
METHOD:PUBLISH
X-WR-CALNAME:F L I
X-WR-CALDESC:Fédération Luxembourgeoise d’Improvisation
X-FROM-URL:https://fli.lu
X-WR-TIMEZONE:Europe/Luxembourg
BEGIN:VTIMEZONE
TZID:Europe/Luxembourg
X-LIC-LOCATION:Europe/Luxembourg
BEGIN:STANDARD
DTSTART:20211031T030000
TZOFFSETFROM:+0200
TZOFFSETTO:+0100
RDATE:20221030T030000
TZNAME:CET
END:STANDARD
BEGIN:DAYLIGHT
DTSTART:20210328T020000
TZOFFSETFROM:+0100
TZOFFSETTO:+0200
RDATE:20220327T020000,20230326T020000
TZNAME:CEST
END:DAYLIGHT
END:VTIMEZONE
BEGIN:VEVENT
UID:2oacvfioq7r0dhlog203lnisgm@google.com
DTSTAMP:20211006T140931Z
CATEGORIES:
CONTACT:
DESCRIPTION:Great news : a new improv workshop is about to take place. Celi
 ne Camara and Alex Monteiro team up to lead this workshop during which we 
 will work on how to build a character (physically and psychologically) and
  explore the wide range of emotions we can play and how focusing on acting
  in improv is a precious tool to be more spontaneous and connected to the 
 scene.\nJoin a great group of open-minded\, enthusiastic and motivated peo
 ple for a great day of discovery and fun!\nPRACTICAL INFO:\nLanguage: Engl
 ish\nPrerequisite: None\nTuition fees for non-members: 85€ (including memb
 ership to FLI)\nTuition fees for FLI members: 60€\nBooking and information
 : hello@fli.lu
DTSTART;TZID=Europe/Luxembourg:20190720T100000
DTEND;TZID=Europe/Luxembourg:20190720T170000
LOCATION:Centre Nicolas Braun\, 5886\, 474 Route de Thionville\, 5886 Alzin
 gen\, Luxembourg
SEQUENCE:0
SUMMARY:Improv workshop series\, part 2: Characters and emotions
X-ALT-DESC;FMTTYPE=text/html:<!DOCTYPE HTML PUBLIC '-//W3C//DTD HTML 3.2//E
 N'>\\n<HTML>\\n<HEAD>\\n<TITLE></TITLE>\\n</HEAD>\\n<BODY><p>Great news : 
 a new improv workshop is about to take place. Celine Camara and Alex Monte
 iro team up to lead this workshop during which we will work on how to buil
 d a character (physically and psychologically) and explore the wide range 
 of emotions we can play and how focusing on acting in improv is a precious
  tool to be more spontaneous and connected to the scene.<br />\nJoin a gre
 at group of open-minded\, enthusiastic and motivated people for a great da
 y of discovery and fun!</p>\n<p>PRACTICAL INFO:</p>\n<p>Language: English<
 br />\nPrerequisite: None</p>\n<p>Tuition fees for non-members: 85€ (inclu
 ding membership to FLI)<br />\nTuition fees for FLI members: 60€</p>\n<p>B
 ooking and information: hello@fli.lu</p>\n</BODY></HTML>
END:VEVENT
END:VCALENDAR
