BEGIN:VCALENDAR
VERSION:2.0
PRODID:-//159.69.87.28//NONSGML kigkonsult.se iCalcreator 2.26.9//
CALSCALE:GREGORIAN
METHOD:PUBLISH
X-WR-CALNAME:F L I
X-WR-CALDESC:Fédération Luxembourgeoise d’Improvisation
X-FROM-URL:https://fli.lu
X-WR-TIMEZONE:Europe/Luxembourg
BEGIN:VTIMEZONE
TZID:Europe/Luxembourg
X-LIC-LOCATION:Europe/Luxembourg
BEGIN:STANDARD
DTSTART:20211031T030000
TZOFFSETFROM:+0200
TZOFFSETTO:+0100
RDATE:20221030T030000
TZNAME:CET
END:STANDARD
BEGIN:DAYLIGHT
DTSTART:20210328T020000
TZOFFSETFROM:+0100
TZOFFSETTO:+0200
RDATE:20220327T020000,20230326T020000
TZNAME:CEST
END:DAYLIGHT
END:VTIMEZONE
BEGIN:VEVENT
UID:6m683k4von9cb2jc8blksm8nio@google.com
DTSTAMP:20211006T140721Z
CATEGORIES:
CONTACT:
DESCRIPTION:La troupe PATE est de retour avec leur nouveau spectacle 'Gare 
 à vous'.\nRendez-vous le 12 et le 13 juillet à 20h au théâtre d'Esch pour 
 un spectacle pas comme les autres.\nRéservations : 27 54 50 10\n'On est to
 us passé un jour devant la billetterie\, mais pas toujours pour les mêmes 
 raisons…..Et si vous êtes de passage….GARE À VOUS!
DTSTART;TZID=Europe/Luxembourg:20190713T200000
DTEND;TZID=Europe/Luxembourg:20190713T213000
LOCATION:Théâtre d'Esch\, 120 Rue de l'Alzette\, 4010 Esch-sur-Alzette\, Lu
 xembourg
SEQUENCE:0
SUMMARY:PATE – GARE À VOUS
X-ALT-DESC;FMTTYPE=text/html:<!DOCTYPE HTML PUBLIC '-//W3C//DTD HTML 3.2//E
 N'>\\n<HTML>\\n<HEAD>\\n<TITLE></TITLE>\\n</HEAD>\\n<BODY><p>La troupe PAT
 E est de retour avec leur nouveau spectacle 'Gare à vous'.</p>\n<p>Rendez-
 vous le 12 et le 13 juillet à 20h au théâtre d'Esch pour un spectacle pas 
 comme les autres.</p>\n<p>Réservations : 27 54 50 10</p>\n<p>'On est tous 
 passé un jour devant la billetterie\, mais pas toujours pour les mêmes rai
 sons…..Et si vous êtes de passage….GARE À VOUS!</p>\n</BODY></HTML>
END:VEVENT
END:VCALENDAR
