BEGIN:VCALENDAR
VERSION:2.0
PRODID:-//159.69.87.28//NONSGML kigkonsult.se iCalcreator 2.26.9//
CALSCALE:GREGORIAN
METHOD:PUBLISH
X-WR-CALNAME:F L I
X-WR-CALDESC:Fédération Luxembourgeoise d’Improvisation
X-FROM-URL:https://fli.lu
X-WR-TIMEZONE:Europe/Luxembourg
BEGIN:VTIMEZONE
TZID:Europe/Luxembourg
X-LIC-LOCATION:Europe/Luxembourg
BEGIN:STANDARD
DTSTART:20211031T030000
TZOFFSETFROM:+0200
TZOFFSETTO:+0100
RDATE:20221030T030000
TZNAME:CET
END:STANDARD
BEGIN:DAYLIGHT
DTSTART:20210328T020000
TZOFFSETFROM:+0100
TZOFFSETTO:+0200
RDATE:20220327T020000,20230326T020000
TZNAME:CEST
END:DAYLIGHT
END:VTIMEZONE
BEGIN:VEVENT
UID:3lkoon121602759v4v8u2v73n7@google.com
DTSTAMP:20211006T140651Z
CATEGORIES:
CONTACT:
DESCRIPTION:<p>TRIO </p>\n<p>Deux membres du public deviennent les héros d’
 un soir.<br />\n <br />\nDeux membres du public sont désignés au hasard.  
 Ils choisissent un genre d’histoire qu’ils aimeraient vivre\, et c’est par
 ti!  Ils vont devenir les héros d’une aventure inattendue.   <br />\nC’est
  forcément improvisé\, c’est forcément un spectacle unique et c’est forcém
 ent une expérience inoubliable pour tout le monde. <br />\n <br />\nL’Osca
 r du meilleur acteur et de la meilleure actrice n’est pas loin…<br />\n <b
 r />\nMark fait la narration\, la mise en scène et joue tous les autres pe
 rsonnages.  Les deux volontaires chanceux sont embarqués dans une histoire
  palpitante où ils découvrent toutes les joies de la scène. </p>\n<p>En 20
 13 Mark rencontre Christopher Vogler et son concept « Le Voyage du héros »
 .  Le spectacle TRIO est né de son envie de mettre  cette vision sur scène
  et montrer des gens ordinaires qui se transforment en héro d’un soir.  </
 p>\n<p>1 COMÉDIEN\, 2 MEMBRES DU PUBLIC\, LEUR HISTOIRE… </p>\n<p>Infos pr
 atiques:</p>\n<p>Horaire: 20h (ouverture des portes à 19h30)<br />\nTicket
 s: Prévente 10€ – Caisse du soir: 15€</p>\n<p>Réservations et infos: reckl
 esslux@gmail.com</p>\n<p>Suivez TRIO sur Facebook et sur www.triolespectac
 le.com  </p>
DTSTART;TZID=Europe/Luxembourg:20190620T200000
DTEND;TZID=Europe/Luxembourg:20190620T220000
LOCATION:De Gudde Wëllen\, 17 Rue du St Esprit\, 1475 Luxembourg
SEQUENCE:0
SUMMARY:Mark Jane – Spectacle TRIO – Inédit (LU)
END:VEVENT
END:VCALENDAR
