BEGIN:VCALENDAR
VERSION:2.0
PRODID:-//159.69.87.28//NONSGML kigkonsult.se iCalcreator 2.26.9//
CALSCALE:GREGORIAN
METHOD:PUBLISH
X-WR-CALNAME:F L I
X-WR-CALDESC:Fédération Luxembourgeoise d’Improvisation
X-FROM-URL:https://fli.lu
X-WR-TIMEZONE:Europe/Luxembourg
BEGIN:VTIMEZONE
TZID:Europe/Luxembourg
X-LIC-LOCATION:Europe/Luxembourg
BEGIN:STANDARD
DTSTART:20211031T030000
TZOFFSETFROM:+0200
TZOFFSETTO:+0100
RDATE:20221030T030000
TZNAME:CET
END:STANDARD
BEGIN:DAYLIGHT
DTSTART:20210328T020000
TZOFFSETFROM:+0100
TZOFFSETTO:+0200
RDATE:20220327T020000,20230326T020000
TZNAME:CEST
END:DAYLIGHT
END:VTIMEZONE
BEGIN:VEVENT
UID:489oasbe6tkb6pirtmft9l8uje@google.com
DTSTAMP:20211006T140639Z
CATEGORIES:
CONTACT:
DESCRIPTION:<p>Deux membres du public deviennent les héros d’un soir. </p>
 \n<p>Deux membres du public sont désignés au hasard. Ils choisissent un ge
 nre d’histoire qu’ils aimeraient vivre\, et c’est parti! Ils vont devenir 
 les héros d’une aventure inattendue.<br />\nC’est forcément improvisé\, c’
 est forcément un spectacle unique et c’est forcément une expérience inoubl
 iable pour tout le monde. </p>\n<p>L’Oscar du meilleur acteur et de la mei
 lleure actrice n’est pas loin… </p>\n<p>Mark fait la narration\, la mise e
 n scène et joue tous les autres personnages. Les deux volontaires chanceux
  sont embarqués dans une histoire palpitante où ils découvrent toutes les 
 joies de la scène. </p>\n<p>En 2013 Mark rencontre Christopher Vogler et s
 on concept « Le Voyage du héros ». Le spectacle TRIO est né de son envie d
 e mettre cette vision sur scène et montrer des gens ordinaires qui se tran
 sforment en héro d’un soir. </p>\n<p>1 COMÉDIEN\, 2 MEMBRES DU PUBLIC\, LE
 UR HISTOIRE… avec le fabuleux Antoine Rup au piano</p>\n<p>Tarifs: 10 euro
 s (en pré-vente)\, 15 euros a la caisse du soir.<br />\nLa billetterie en 
 ligne https://www.billetweb.fr/trio-par-mark-jane-au-luxembourg  </p>
DTSTART;VALUE=DATE:20200118
DTEND;VALUE=DATE:20200119
LOCATION:De Gudde Wëllen\, 17 Rue du St Esprit\, 1475 Luxembourg
SEQUENCE:0
SUMMARY:TRIO – spectacle d’impro culte de Mark Jane (LU)
END:VEVENT
END:VCALENDAR
