BEGIN:VCALENDAR
VERSION:2.0
PRODID:-//159.69.87.28//NONSGML kigkonsult.se iCalcreator 2.26.9//
CALSCALE:GREGORIAN
METHOD:PUBLISH
X-WR-CALNAME:F L I
X-WR-CALDESC:Fédération Luxembourgeoise d’Improvisation
X-FROM-URL:https://fli.lu
X-WR-TIMEZONE:Europe/Luxembourg
BEGIN:VTIMEZONE
TZID:Europe/Luxembourg
X-LIC-LOCATION:Europe/Luxembourg
BEGIN:STANDARD
DTSTART:20211031T030000
TZOFFSETFROM:+0200
TZOFFSETTO:+0100
RDATE:20221030T030000
TZNAME:CET
END:STANDARD
BEGIN:DAYLIGHT
DTSTART:20210328T020000
TZOFFSETFROM:+0100
TZOFFSETTO:+0200
RDATE:20220327T020000,20230326T020000
TZNAME:CEST
END:DAYLIGHT
END:VTIMEZONE
BEGIN:VEVENT
UID:156s2quqgsv2njcr52u6qhtssp@google.com
DTSTAMP:20211006T140629Z
CATEGORIES:
CONTACT:
DESCRIPTION:Comme l’année dernière\, nous vous donnons rendez-vous à l’Aalt
  Stadhaus pour notre spectacle événement à Differdange.\nA cette occasion\
 , la Petaco t’a concocté plein de belles surprises! Ne rate pas cette soir
 ée exceptionnel.\nRéservations: https://ticket.luxembourg-ticket.lu/eventi
 m.webshop/webticket/bestseatselect?eventId=27569&language=de
DTSTART;TZID=Europe/Luxembourg:20191015T200000
DTEND;TZID=Europe/Luxembourg:20191015T220000
LOCATION:Aalt Stadhaus\, 38 Avenue Charlotte\, 4530 Differdange\, Luxembour
 g
SEQUENCE:0
SUMMARY:PETACO – Spectacle événement à Differdange!
X-ALT-DESC;FMTTYPE=text/html:<!DOCTYPE HTML PUBLIC '-//W3C//DTD HTML 3.2//E
 N'>\\n<HTML>\\n<HEAD>\\n<TITLE></TITLE>\\n</HEAD>\\n<BODY><p>Comme l’année
  dernière\, nous vous donnons rendez-vous à l’Aalt Stadhaus pour notre spe
 ctacle événement à Differdange.</p>\n<p>A cette occasion\, la Petaco t’a c
 oncocté plein de belles surprises! Ne rate pas cette soirée exceptionnel.<
 /p>\n<p>Réservations: https://ticket.luxembourg-ticket.lu/eventim.webshop/
 webticket/bestseatselect?eventId=27569&language=de</p>\n</BODY></HTML>
END:VEVENT
END:VCALENDAR
