BEGIN:VCALENDAR
VERSION:2.0
PRODID:-//159.69.87.28//NONSGML kigkonsult.se iCalcreator 2.26.9//
CALSCALE:GREGORIAN
METHOD:PUBLISH
X-WR-CALNAME:F L I
X-WR-CALDESC:Fédération Luxembourgeoise d’Improvisation
X-FROM-URL:https://fli.lu
X-WR-TIMEZONE:Europe/Luxembourg
BEGIN:VTIMEZONE
TZID:Europe/Luxembourg
X-LIC-LOCATION:Europe/Luxembourg
BEGIN:STANDARD
DTSTART:20211031T030000
TZOFFSETFROM:+0200
TZOFFSETTO:+0100
RDATE:20221030T030000
TZNAME:CET
END:STANDARD
BEGIN:DAYLIGHT
DTSTART:20210328T020000
TZOFFSETFROM:+0100
TZOFFSETTO:+0200
RDATE:20220327T020000,20230326T020000
TZNAME:CEST
END:DAYLIGHT
END:VTIMEZONE
BEGIN:VEVENT
UID:1ok6i88mq4omlb3nq82o593gc3@google.com
DTSTAMP:20211006T140614Z
CATEGORIES:
CONTACT:
DESCRIPTION:La PETACO fait sa rentrée\, plus chaude que jamais… \nViens par
 tager le premier spectacle de la saison avec des improvisateur.rices préfé
 ré.e.s !\nL’entrée est gratuite\, la sortie au chapeau mais n’oublie pas d
 e réserver ta place: resa@petaco.lu
DTSTART;TZID=Europe/Luxembourg:20190924T200000
DTEND;TZID=Europe/Luxembourg:20190924T220000
LOCATION:De Gudde Wëllen\, 17 Rue du St Esprit\, 1475 Luxembourg
SEQUENCE:0
SUMMARY:PETACO – Spectacle d’improvisation théâtrale (LU)
X-ALT-DESC;FMTTYPE=text/html:<!DOCTYPE HTML PUBLIC '-//W3C//DTD HTML 3.2//E
 N'>\\n<HTML>\\n<HEAD>\\n<TITLE></TITLE>\\n</HEAD>\\n<BODY><p>La PETACO fai
 t sa rentrée\, plus chaude que jamais… </p>\n<p>Viens partager le premier 
 spectacle de la saison avec des improvisateur.rices préféré.e.s !</p>\n<p>
 L’entrée est gratuite\, la sortie au chapeau mais n’oublie pas de réserver
  ta place: resa@petaco.lu</p>\n</BODY></HTML>
END:VEVENT
END:VCALENDAR
