BEGIN:VCALENDAR
VERSION:2.0
PRODID:-//159.69.87.28//NONSGML kigkonsult.se iCalcreator 2.26.9//
CALSCALE:GREGORIAN
METHOD:PUBLISH
X-WR-CALNAME:F L I
X-WR-CALDESC:Fédération Luxembourgeoise d’Improvisation
X-FROM-URL:https://fli.lu
X-WR-TIMEZONE:Europe/Luxembourg
BEGIN:VTIMEZONE
TZID:Europe/Luxembourg
X-LIC-LOCATION:Europe/Luxembourg
BEGIN:STANDARD
DTSTART:20211031T030000
TZOFFSETFROM:+0200
TZOFFSETTO:+0100
RDATE:20221030T030000
TZNAME:CET
END:STANDARD
BEGIN:DAYLIGHT
DTSTART:20210328T020000
TZOFFSETFROM:+0100
TZOFFSETTO:+0200
RDATE:20220327T020000,20230326T020000
TZNAME:CEST
END:DAYLIGHT
END:VTIMEZONE
BEGIN:VEVENT
UID:2d3lhebd4qpd7cn9l02krevopn@google.com
DTSTAMP:20211006T140601Z
CATEGORIES:
CONTACT:
DESCRIPTION:SAVE THE DATE FLIRT\n                                          
                        du 20 au 22 septembre 2019\n                       
               Festival Luxembourgeois d’Improvisation Richement Théâtrale 
 \nNe ratez pas le 1er festival international organisé par la FLI! Le temps
  d’un week-end\, Hesperange va devenir la capitale de l’impro de la Grande
 -Région. A cette occasion\, nous recevrons 3 troupes internationales: La L
 IP (Paris)\, la LINE (Suisse) et la FBIA (Wallonie-Bruxelles).\nAu program
 me\, il y en aura pour tous les goûts et de quoi mettre aussi bien  à l’ho
 nneur nos invités internationaux que nos improvisateurs locaux:\nVendredi 
 20/09 à 20h: spectacle de gala – 5\,4\,3\,2\,1 Improvisez! Un format long 
 réunissant 10 improvisateur.rice.s issu.e.s de différentes troupes de la F
 LI\nVendredi 20/09 à 22h00 : ImproJam en 2e partie de soirée ! Une scène o
 uverte permettant  à tous les improvisateur.rice.s mais aussi aux novices 
 de monter sur scene dans une ambiance décontractée  et conviviale \nSamedi
  21/09 à 10h30: Spectacle d’improvisation pour enfants (5 à 10 ans)\nSamed
 i 21/09 de 13h à 15h45 : workshop d’initiation d’impro en luxembourgeois\n
 Samedi 21/09 de 16h à 22h15 Tournoi international de rencontres(FR/LUX/BE/
 CH)\nSamedi 21/09 à 22h30: After Show\nDimanche 22/09 à 14h: Petite finale
  du tournoi\nDimanche 22/09 à 15h30: Grande finale en présence de la Minis
 tre de la Culture\nInfos
DTSTART;TZID=Europe/Luxembourg:20190920T200000
DTEND;TZID=Europe/Luxembourg:20190922T173000
LOCATION:CELO\, 476 Route de Thionville\, 5886 Hesperange\, Luxembourg
SEQUENCE:0
SUMMARY:FLIRT – Festival Luxembourgeois d’Improvisation Richement Théâtrale
  (LU)
X-ALT-DESC;FMTTYPE=text/html:<!DOCTYPE HTML PUBLIC '-//W3C//DTD HTML 3.2//E
 N'>\\n<HTML>\\n<HEAD>\\n<TITLE></TITLE>\\n</HEAD>\\n<BODY><p>\n           
                                                            SAVE THE DATE F
 LIRT<br />\n                                                              
    du 20 au 22 septembre 2019</p>\n<p>                                    
  Festival Luxembourgeois d’Improvisation Richement Théâtrale </p>\n<p>Ne r
 atez pas le 1er festival international organisé par la FLI! Le temps d’un 
 week-end\, Hesperange va devenir la capitale de l’impro de la Grande-Régio
 n. A cette occasion\, nous recevrons 3 troupes internationales: La LIP (Pa
 ris)\, la LINE (Suisse) et la FBIA (Wallonie-Bruxelles).</p>\n<p>Au progra
 mme\, il y en aura pour tous les goûts et de quoi mettre aussi bien  à l’h
 onneur nos invités internationaux que nos improvisateurs locaux:</p>\n<p>V
 endredi 20/09 à 20h: spectacle de gala – 5\,4\,3\,2\,1 Improvisez! Un form
 at long réunissant 10 improvisateur.rice.s issu.e.s de différentes troupes
  de la FLI</p>\n<p>Vendredi 20/09 à 22h00 : ImproJam en 2e partie de soiré
 e ! Une scène ouverte permettant  à tous les improvisateur.rice.s mais aus
 si aux novices de monter sur scene dans une ambiance décontractée  et conv
 iviale </p>\n<p>Samedi 21/09 à 10h30: Spectacle d’improvisation pour enfan
 ts (5 à 10 ans)<br />\nSamedi 21/09 de 13h à 15h45 : workshop d’initiation
  d’impro en luxembourgeois<br />\nSamedi 21/09 de 16h à 22h15 Tournoi inte
 rnational de rencontres(FR/LUX/BE/CH)<br />\nSamedi 21/09 à 22h30: After S
 how</p>\n<p>Dimanche 22/09 à 14h: Petite finale du tournoi<br />\nDimanche
  22/09 à 15h30: Grande finale en présence de la Ministre de la Culture</p>
 \n<p>Infos</p>\n</BODY></HTML>
END:VEVENT
END:VCALENDAR
