BEGIN:VCALENDAR
VERSION:2.0
PRODID:-//159.69.87.28//NONSGML kigkonsult.se iCalcreator 2.26.9//
CALSCALE:GREGORIAN
METHOD:PUBLISH
X-WR-CALNAME:F L I
X-WR-CALDESC:Fédération Luxembourgeoise d’Improvisation
X-FROM-URL:https://fli.lu
X-WR-TIMEZONE:Europe/Luxembourg
BEGIN:VTIMEZONE
TZID:Europe/Luxembourg
X-LIC-LOCATION:Europe/Luxembourg
BEGIN:STANDARD
DTSTART:20211031T030000
TZOFFSETFROM:+0200
TZOFFSETTO:+0100
RDATE:20221030T030000
TZNAME:CET
END:STANDARD
BEGIN:DAYLIGHT
DTSTART:20210328T020000
TZOFFSETFROM:+0100
TZOFFSETTO:+0200
RDATE:20220327T020000
TZNAME:CEST
END:DAYLIGHT
END:VTIMEZONE
BEGIN:VEVENT
UID:1sulvfnm8pcv7097q15alqrq5q@google.com
DTSTAMP:20210721T191900Z
CATEGORIES:
CONTACT:
DESCRIPTION:<p>La PETACO te donne rendez-vous pour son spectacle mensuel!</
 p>\n<p>L’entrée est libre\, la sortie au chapeau\, mais pense à réserver t
 es places à temps: resa@petaco.lu</p>\n<p>A très bientôt!</p>
DTSTART;TZID=Europe/Luxembourg:20191126T200000
DTEND;TZID=Europe/Luxembourg:20191126T220000
LOCATION:De Gudde Wëllen\, 17 Rue du St Esprit\, 1475 Luxembourg
SEQUENCE:0
SUMMARY:PETACO – Spectacle d’improvisation théâtrale (LU)
END:VEVENT
END:VCALENDAR
