BEGIN:VCALENDAR
VERSION:2.0
PRODID:-//159.69.87.28//NONSGML kigkonsult.se iCalcreator 2.26.9//
CALSCALE:GREGORIAN
METHOD:PUBLISH
X-WR-CALNAME:F L I
X-WR-CALDESC:Fédération Luxembourgeoise d’Improvisation
X-FROM-URL:https://fli.lu
X-WR-TIMEZONE:Europe/Luxembourg
BEGIN:VTIMEZONE
TZID:Europe/Luxembourg
X-LIC-LOCATION:Europe/Luxembourg
BEGIN:STANDARD
DTSTART:20211031T030000
TZOFFSETFROM:+0200
TZOFFSETTO:+0100
RDATE:20221030T030000
TZNAME:CET
END:STANDARD
BEGIN:DAYLIGHT
DTSTART:20210328T020000
TZOFFSETFROM:+0100
TZOFFSETTO:+0200
RDATE:20220327T020000
TZNAME:CEST
END:DAYLIGHT
END:VTIMEZONE
BEGIN:VEVENT
UID:7ij6jsvtb3o3kr2l6drml5hvj0@google.com
DTSTAMP:20210721T191850Z
CATEGORIES:
CONTACT:
DESCRIPTION:Nous\, tout Nu(e)s avons le plaisir de vous annoncer notre proc
 hain spectacle d’improvisation théâtrale et musicale inédit au Njörd. \nUn
  invité tout particulier nous fera l’honneur de sa présence et nous en som
 mes ravies. Guillaume Le Ray\, pianiste\, arrangeur vocal et chef de chœur
  se lancera sans filet\, dans le bain de l’improvisation théâtrale longue 
 forme à nos côtés.\nUn spectacle qui s’annonce déjà d’ores et déjà haut en
  couleurs et en reliefs!\nL’entrée est libre et la sortie au chapeau. Entr
 e les deux\, vous n’aurez qu’à partager un moment unique avec nous.\nRéser
 vations et infos: toutnues@gmail.com
DTSTART;TZID=Europe/Luxembourg:20190910T200000
DTEND;TZID=Europe/Luxembourg:20190910T213000
LOCATION:Njord\, Marché-Aux-Poissons\, 2345 Luxembourg
SEQUENCE:0
SUMMARY:TOUT NUES – Pièce de théâtre improvisée (LU)
X-ALT-DESC;FMTTYPE=text/html:<!DOCTYPE HTML PUBLIC '-//W3C//DTD HTML 3.2//E
 N'>\\n<HTML>\\n<HEAD>\\n<TITLE></TITLE>\\n</HEAD>\\n<BODY><p>Nous\, tout N
 u(e)s avons le plaisir de vous annoncer notre prochain spectacle d’improvi
 sation théâtrale et musicale inédit au Njörd. </p>\n<p>Un invité tout part
 iculier nous fera l’honneur de sa présence et nous en sommes ravies. Guill
 aume Le Ray\, pianiste\, arrangeur vocal et chef de chœur se lancera sans 
 filet\, dans le bain de l’improvisation théâtrale longue forme à nos côtés
 .</p>\n<p>Un spectacle qui s’annonce déjà d’ores et déjà haut en couleurs 
 et en reliefs!</p>\n<p>L’entrée est libre et la sortie au chapeau. Entre l
 es deux\, vous n’aurez qu’à partager un moment unique avec nous.</p>\n<p>R
 éservations et infos: toutnues@gmail.com</p>\n</BODY></HTML>
END:VEVENT
END:VCALENDAR
