BEGIN:VCALENDAR
VERSION:2.0
PRODID:-//159.69.87.28//NONSGML kigkonsult.se iCalcreator 2.26.9//
CALSCALE:GREGORIAN
METHOD:PUBLISH
X-WR-CALNAME:F L I
X-WR-CALDESC:Fédération Luxembourgeoise d’Improvisation
X-FROM-URL:https://fli.lu
X-WR-TIMEZONE:Europe/Luxembourg
BEGIN:VTIMEZONE
TZID:Europe/Luxembourg
X-LIC-LOCATION:Europe/Luxembourg
BEGIN:STANDARD
DTSTART:20211031T030000
TZOFFSETFROM:+0200
TZOFFSETTO:+0100
RDATE:20221030T030000
TZNAME:CET
END:STANDARD
BEGIN:DAYLIGHT
DTSTART:20210328T020000
TZOFFSETFROM:+0100
TZOFFSETTO:+0200
RDATE:20220327T020000
TZNAME:CEST
END:DAYLIGHT
END:VTIMEZONE
BEGIN:VEVENT
UID:1at34mr1d8u5caddtia8k6420j@google.com
DTSTAMP:20210721T191824Z
CATEGORIES:
CONTACT:
DESCRIPTION:IMPRO ? Trau dech a probéier !\nHues du schon impro-theater ges
 inn oder hues dovunner héieren ? Du sees dir dass et mega ass mee dass däi
 n Däitsch\, Englesch oder Franséisch net gutt genuch ass ? Du mengs dass d
 u dat nimools virun aner Léit maache kéints ? Du hues einfach Loscht impro
  ze probéieren ?\nWanns de mat JO op eng vun dëse Froen äntwers da bass de
  op der richteger Plaz. Am Kader vum impro festival FLIRT proposéieren ech
  dier en Atelier wou ir zesumme léiere kleng Zeene spontan ze spillen. Ob 
 Erfarung oder net\, ob grouss oder kleng\, ob dënn oder déck\, ob blo oder
  giel jiddereen ass wëllkomm.\nWichteg Informatiounen :\nSprooch : Lëtzebu
 ergesch\nWou : Ancienne école – Fentange 97 Rue de Bettembourg L-5811 FENT
 ANGE Luxembourg.\nDatum : 21 September 2019\nUm wei vill Auer : 13h-15h45 
 (et ass méiglech vun do aus direkt an de Celo ze goe fir den Impro Turnéie
 r kucken ze goen.)\nAb 12h45 bass du wëllkomm\, fir Gedrénks ass gesuergt.
 \niMPRO ? Ose et essaie !\nTu as déjà vu ou entendu parler du théâtre d’im
 pro ? Tu trouves ça super\, mais tu penses que ton niveau en français\, en
  allemand ou en anglais n’est pas assez bon ? Tu penses que tu n’arriverai
 s jamais à faire ça devant d’autres personnes ? Tu as envie d’essayer l’im
 pro ?\nSi tu réponds par oui à une de ces questions\, tu es à la bonne adr
 esse. Dans le cadre du festival d’impro FLIRT\, je te propose un atelier o
 ù nous apprendrons les bases pour jouer des petites scènes improvisées ens
 emble. Que tu aies de l’expérience ou pas\, que tu sois grand ou petit\, q
 ue tu sois gros ou maigre\, que tu sois bleu ou jaune\, tout le monde est 
 le bienvenu. \nInfos pratiques :\nLangue : Luxembourgeois\nLieu : Ancienne
  école – Fentange 97 Rue de Bettembourg L-5811 FENTANGE Luxembourg.\nDate 
 : Samedi 21 septembre 2019\nParticipation libre\, sortie au chapeau\nHorai
 res : 13h-15h45 (possibilité de se rendre au Celo ensuite pour assister au
  tournoi international du festival)\nNous vous accueillons à partir de 12h
 45\, des boissons vous seront offertes.
DTSTART;TZID=Europe/Luxembourg:20190921T130000
DTEND;TZID=Europe/Luxembourg:20190921T154500
LOCATION:97 Rue de Bettembourg\, 5825 Fentange\, Luxembourg
SEQUENCE:0
SUMMARY:IMPRO ? Trau dech a probéier ! – Initiation à l’impro en luxembourg
 eois (LU)
X-ALT-DESC;FMTTYPE=text/html:<!DOCTYPE HTML PUBLIC '-//W3C//DTD HTML 3.2//E
 N'>\\n<HTML>\\n<HEAD>\\n<TITLE></TITLE>\\n</HEAD>\\n<BODY><p>IMPRO ? Trau 
 dech a probéier !</p>\n<p>Hues du schon impro-theater gesinn oder hues dov
 unner héieren ? Du sees dir dass et mega ass mee dass däin Däitsch\, Engle
 sch oder Franséisch net gutt genuch ass ? Du mengs dass du dat nimools vir
 un aner Léit maache kéints ? Du hues einfach Loscht impro ze probéieren ?<
 br />\nWanns de mat JO op eng vun dëse Froen äntwers da bass de op der ric
 hteger Plaz. Am Kader vum impro festival FLIRT proposéieren ech dier en At
 elier wou ir zesumme léiere kleng Zeene spontan ze spillen. Ob Erfarung od
 er net\, ob grouss oder kleng\, ob dënn oder déck\, ob blo oder giel jidde
 reen ass wëllkomm.</p>\n<p>Wichteg Informatiounen :<br />\nSprooch : Lëtze
 buergesch<br />\nWou : Ancienne école – Fentange 97 Rue de Bettembourg L-5
 811 FENTANGE Luxembourg.<br />\nDatum : 21 September 2019<br />\nUm wei vi
 ll Auer : 13h-15h45 (et ass méiglech vun do aus direkt an de Celo ze goe f
 ir den Impro Turnéier kucken ze goen.)<br />\nAb 12h45 bass du wëllkomm\, 
 fir Gedrénks ass gesuergt.</p>\n<p>iMPRO ? Ose et essaie !</p>\n<p>Tu as d
 éjà vu ou entendu parler du théâtre d’impro ? Tu trouves ça super\, mais t
 u penses que ton niveau en français\, en allemand ou en anglais n’est pas 
 assez bon ? Tu penses que tu n’arriverais jamais à faire ça devant d’autre
 s personnes ? Tu as envie d’essayer l’impro ?</p>\n<p>Si tu réponds par ou
 i à une de ces questions\, tu es à la bonne adresse. Dans le cadre du fest
 ival d’impro FLIRT\, je te propose un atelier où nous apprendrons les base
 s pour jouer des petites scènes improvisées ensemble. Que tu aies de l’exp
 érience ou pas\, que tu sois grand ou petit\, que tu sois gros ou maigre\,
  que tu sois bleu ou jaune\, tout le monde est le bienvenu. </p>\n<p>Infos
  pratiques :<br />\nLangue : Luxembourgeois<br />\nLieu : Ancienne école –
  Fentange 97 Rue de Bettembourg L-5811 FENTANGE Luxembourg.<br />\nDate : 
 Samedi 21 septembre 2019<br />\nParticipation libre\, sortie au chapeau<br
  />\nHoraires : 13h-15h45 (possibilité de se rendre au Celo ensuite pour a
 ssister au tournoi international du festival)<br />\nNous vous accueillons
  à partir de 12h45\, des boissons vous seront offertes.</p>\n</BODY></HTML
 >
END:VEVENT
END:VCALENDAR
