BEGIN:VCALENDAR
VERSION:2.0
PRODID:-//159.69.87.28//NONSGML kigkonsult.se iCalcreator 2.26.9//
CALSCALE:GREGORIAN
METHOD:PUBLISH
X-WR-CALNAME:F L I
X-WR-CALDESC:Fédération Luxembourgeoise d’Improvisation
X-FROM-URL:https://fli.lu
X-WR-TIMEZONE:Europe/Luxembourg
BEGIN:VTIMEZONE
TZID:Europe/Luxembourg
X-LIC-LOCATION:Europe/Luxembourg
BEGIN:STANDARD
DTSTART:20201025T030000
TZOFFSETFROM:+0200
TZOFFSETTO:+0100
RDATE:20211031T030000
TZNAME:CET
END:STANDARD
BEGIN:DAYLIGHT
DTSTART:20210328T020000
TZOFFSETFROM:+0100
TZOFFSETTO:+0200
RDATE:20220327T020000
TZNAME:CEST
END:DAYLIGHT
END:VTIMEZONE
BEGIN:VEVENT
UID:1pun4t316g0l55k7rh84jsvsj9@google.com
DTSTAMP:20210420T034553Z
CATEGORIES:
CONTACT:
DESCRIPTION:Spectacle d’Improvisation avec L’Habérézina et les Zherbivores 
 au profit de l’asbl Altéo (Mouvement social de personnes malades\, valides
  et handicapées). (salle accessible aux PMR)\nOuverture des portes à 16h30
 \nInfos et réservations : +3263/211 848 ou alteo.luxembourg@mc.be\nEntrée 
 12 €\nMembre Altéo 8 €\nMoins de 12 ans : Gratuit\nTransport (adapté) orga
 nisé pour les membres Altéo (5€ aller/Retour)
DTSTART;TZID=Europe/Luxembourg:20191130T170000
DTEND;TZID=Europe/Luxembourg:20191130T190000
LOCATION:Espace 29\, Rue des Ecoles\, 6840 Neufchâteau\, Belgique
SEQUENCE:0
SUMMARY:Impro avec L’Habérézina et les Zherbivores à Neufchâteau (BE)
X-ALT-DESC;FMTTYPE=text/html:<!DOCTYPE HTML PUBLIC '-//W3C//DTD HTML 3.2//E
 N'>\\n<HTML>\\n<HEAD>\\n<TITLE></TITLE>\\n</HEAD>\\n<BODY><p>Spectacle d’I
 mprovisation avec L’Habérézina et les Zherbivores au profit de l’asbl Alté
 o (Mouvement social de personnes malades\, valides et handicapées). (salle
  accessible aux PMR)</p>\n<p>Ouverture des portes à 16h30</p>\n<p>Infos et
  réservations : +3263/211 848 ou alteo.luxembourg@mc.be</p>\n<p>Entrée 12 
 €<br />\nMembre Altéo 8 €<br />\nMoins de 12 ans : Gratuit</p>\n<p>Transpo
 rt (adapté) organisé pour les membres Altéo (5€ aller/Retour)</p>\n</BODY>
 </HTML>
END:VEVENT
END:VCALENDAR
