BEGIN:VCALENDAR
VERSION:2.0
PRODID:-//159.69.87.28//NONSGML kigkonsult.se iCalcreator 2.26.9//
CALSCALE:GREGORIAN
METHOD:PUBLISH
X-WR-CALNAME:F L I
X-WR-CALDESC:Fédération Luxembourgeoise d’Improvisation
X-FROM-URL:https://fli.lu
X-WR-TIMEZONE:Europe/Luxembourg
BEGIN:VTIMEZONE
TZID:Europe/Luxembourg
X-LIC-LOCATION:Europe/Luxembourg
BEGIN:STANDARD
DTSTART:20201025T030000
TZOFFSETFROM:+0200
TZOFFSETTO:+0100
RDATE:20211031T030000
TZNAME:CET
END:STANDARD
BEGIN:DAYLIGHT
DTSTART:20210328T020000
TZOFFSETFROM:+0100
TZOFFSETTO:+0200
RDATE:20220327T020000
TZNAME:CEST
END:DAYLIGHT
END:VTIMEZONE
BEGIN:VEVENT
UID:602h27aslgtvikhqtsnsujs2rp@google.com
DTSTAMP:20210420T035351Z
CATEGORIES:
CONTACT:
DESCRIPTION:<p>Nous avons la grande chance et le bonheur d’accueillir la Co
 mpagnie La Morsure (Rennes) pour un week-end de formation qui se clôturera
  par META\, une sortie de stage avec 12 improvisateur.rice.s.</p>\n<p>Avec
 : Baptiste BOILLEY\, Céline CAMARA\, Erwan CAUGANT\, Maurice DEROK\, Valér
 ie FICHOT\, Clément HENQUINET\, Antoine LECLERCQ\, Pierre-David MARQUET\, 
 Greg MELMER\, Aurélie POLI\, Gwenaëlle RETZEPTER\, Sonia SCHMITT</p>\n<p>I
 nfos pratiques :</p>\n<p>• Lieu: Centre Nicolas Braun – 474 Route de Thion
 ville\, 5886 <br />• Tarif normal: 10€ – membre  FLI: 8€<br />• Réservatio
 n par mail: fli.resaspectacles@gmail.com</p>\n<p>QU’EST-CE QUE LA META?</p
 >\n<p>La Meta\, c’est un moyen d’écrire différemment\, de jouer différemme
 nt\, de penser différemment. C’est un autre langage.<br />C’est exprimer c
 e que ressent l’acteur alors qu’il joue. </p>\n<p>La Meta est régulièremen
 t utilisée en improvisation\, de par son effet comique et permet souvent d
 e décaler une situation\, et déstabiliser son partenaire (ex : Tiens\, tu 
 es en train de marcher sur la table !) <br />META\, c’est tout prendre. Ne
  jamais être en panne. Recycler en permanence ses propres propositions. Sa
  propre matière. C’est faire entendre la voix de l’auteur\, au travers de 
 son personnage.<br />Quand les acteurs jouent Meta\, sont-ils vraiment en 
 train de jouer ? Ils naviguent toujours entre les lignes. Entre comédien e
 t personnage\, entre sincérité et sur-jeu\, entre lâcher prise et hyper co
 nscience. </p>\n<p>En tout cas\, tout le monde\, les comédiens comme le Pu
 bic\, sera conscient d’avoir assisté à un moment à part…ce spectacle est d
 ifférent de ce que vous avez sûrement déjà vu. Ce qui est sûr c’est qu’il 
 ne vous laissera pas indifférent. Nous vous attendons avec impatience pour
  ce spectacle hors du commun !</p>\n<p>En savoir plus sur La Morsure : <a 
 href='https://www.lamorsure.com/?fbclid=IwAR30y7B0csVElfstEAT6ICvAli7ON_PX
 tYbpra2mkpH4c4kteqPgfmjw5h4'>https://www.lamorsure.com/</a>  </p>
DTSTART;TZID=Europe/Luxembourg:20200301T183000
DTEND;TZID=Europe/Luxembourg:20200301T200000
LOCATION:Centre Nicolas Braun\, 5886\, 474 Route de Thionville\, 5886 Alzin
 gen\, Luxembourg
SEQUENCE:0
SUMMARY:META – spectacle d’impro théâtrale avec La Morsure (Rennes)
END:VEVENT
END:VCALENDAR
