BEGIN:VCALENDAR
VERSION:2.0
PRODID:-//159.69.87.28//NONSGML kigkonsult.se iCalcreator 2.26.9//
CALSCALE:GREGORIAN
METHOD:PUBLISH
X-WR-CALNAME:F L I
X-WR-CALDESC:Fédération Luxembourgeoise d’Improvisation
X-FROM-URL:https://fli.lu
X-WR-TIMEZONE:Europe/Luxembourg
BEGIN:VTIMEZONE
TZID:Europe/Luxembourg
X-LIC-LOCATION:Europe/Luxembourg
BEGIN:STANDARD
DTSTART:20201025T030000
TZOFFSETFROM:+0200
TZOFFSETTO:+0100
RDATE:20211031T030000
TZNAME:CET
END:STANDARD
BEGIN:DAYLIGHT
DTSTART:20210328T020000
TZOFFSETFROM:+0100
TZOFFSETTO:+0200
RDATE:20220327T020000
TZNAME:CEST
END:DAYLIGHT
END:VTIMEZONE
BEGIN:VEVENT
UID:CF130EDA-2A78-442D-9BD2-4C78E58FF34D
DTSTAMP:20210420T035339Z
CATEGORIES:
CONTACT:
DESCRIPTION:<p>Spectacle improvisé\, Comedy-Show\, sortie au chapeau.<br />
 \nRéservations: resa_KOI@gmail.com</p>
DTSTART;TZID=Europe/Luxembourg:20200227T200000
DTEND;TZID=Europe/Luxembourg:20200227T213000
LOCATION:Café Bei der Gare\, 8 Rue Joseph Junck\, 1839 Luxembourg
SEQUENCE:0
SUMMARY:Les KOI – Impro-Comedy show
END:VEVENT
END:VCALENDAR
