BEGIN:VCALENDAR
VERSION:2.0
PRODID:-//159.69.87.28//NONSGML kigkonsult.se iCalcreator 2.26.9//
CALSCALE:GREGORIAN
METHOD:PUBLISH
X-WR-CALNAME:F L I
X-WR-CALDESC:Fédération Luxembourgeoise d’Improvisation
X-FROM-URL:https://fli.lu
X-WR-TIMEZONE:Europe/Luxembourg
BEGIN:VTIMEZONE
TZID:Europe/Luxembourg
X-LIC-LOCATION:Europe/Luxembourg
BEGIN:STANDARD
DTSTART:20201025T030000
TZOFFSETFROM:+0200
TZOFFSETTO:+0100
RDATE:20211031T030000
TZNAME:CET
END:STANDARD
BEGIN:DAYLIGHT
DTSTART:20210328T020000
TZOFFSETFROM:+0100
TZOFFSETTO:+0200
RDATE:20220327T020000
TZNAME:CEST
END:DAYLIGHT
END:VTIMEZONE
BEGIN:VEVENT
UID:31C1DFEC-C796-459F-82F7-4A4471F2B73B
DTSTAMP:20210420T035330Z
CATEGORIES:
CONTACT:
DESCRIPTION:On sait où la soirée commence\, mais jamais comment elle finira
 .\nAu fil des heures\, les souvenirs s’avivent\, les langues se délient\, 
 de nouvelles histoires commencent.\nBillets: https://www.billetreduc.com/2
 58008/evt.htm?fbclid=IwAR1r6QBZTGl4jBHmE6PhbARKU5Y_7zHHLfQ2_fr0nMenXcSdobH
 O2BsTZco
DTSTART;TZID=Europe/Luxembourg:20200311T200000
DTEND;TZID=Europe/Luxembourg:20200311T220000
LOCATION:La comédie de Metz\, 3 Rue du Pont Saint-Marcel
SEQUENCE:0
SUMMARY:Soirée Impact Impro | Fin de soirée
X-ALT-DESC;FMTTYPE=text/html:<!DOCTYPE HTML PUBLIC '-//W3C//DTD HTML 3.2//E
 N'>\\n<HTML>\\n<HEAD>\\n<TITLE></TITLE>\\n</HEAD>\\n<BODY><p>On sait où la
  soirée commence\, mais jamais comment elle finira.<br />\nAu fil des heur
 es\, les souvenirs s’avivent\, les langues se délient\, de nouvelles histo
 ires commencent.<br />\nBillets: https://www.billetreduc.com/258008/evt.ht
 m?fbclid=IwAR1r6QBZTGl4jBHmE6PhbARKU5Y_7zHHLfQ2_fr0nMenXcSdobHO2BsTZco</p>
 \n</BODY></HTML>
END:VEVENT
END:VCALENDAR
