BEGIN:VCALENDAR
VERSION:2.0
PRODID:-//159.69.87.28//NONSGML kigkonsult.se iCalcreator 2.26.9//
CALSCALE:GREGORIAN
METHOD:PUBLISH
X-WR-CALNAME:F L I
X-WR-CALDESC:Fédération Luxembourgeoise d’Improvisation
X-FROM-URL:https://fli.lu
X-WR-TIMEZONE:Europe/Luxembourg
BEGIN:VTIMEZONE
TZID:Europe/Luxembourg
X-LIC-LOCATION:Europe/Luxembourg
BEGIN:STANDARD
DTSTART:20201025T030000
TZOFFSETFROM:+0200
TZOFFSETTO:+0100
RDATE:20211031T030000
TZNAME:CET
END:STANDARD
BEGIN:DAYLIGHT
DTSTART:20210328T020000
TZOFFSETFROM:+0100
TZOFFSETTO:+0200
RDATE:20220327T020000
TZNAME:CEST
END:DAYLIGHT
END:VTIMEZONE
BEGIN:VEVENT
UID:386brne9qt01uohco5n0m94lca@google.com
DTSTAMP:20210420T035307Z
CATEGORIES:
CONTACT:
DESCRIPTION:Cette troupe atypique avec ses six improvisateurs\, qu’on ne pr
 ésente plus\, qui a fêté ses cinq ans de scène en avril dernier et avec pl
 us de 1000 abonnés sur Facebook revient pour une troisième année consécuti
 ve à l’Aalt Stadhaus avec une nouvelle formule Melting pot qui réunira cer
 tains de leurs meilleurs concepts joués ces dernières années!\nLeur histoi
 re a commencé à trois et aujourd’hui\, ils se retrouvent à six. Mais qui e
 st cette troupe?\nVoici comment ils se présentent:\nOn est PETIT parce qu’
 on n’est pas grand\, et on nous a toujours dit que tout ce qui était petit
  était mignon\;\nOn est une TROUPE proposant des spectacles d’improvisatio
 n divers et variés\;\nOn est À CÔTÉ des autres troupes\, pour leur propose
 r de jouer avec nous de nouvelles choses. Et comme le Luxembourg est un pe
 tit pays\, on est forcément à côté de toi.\nEn fait\, on est surtout des a
 mis qui veulent s’amuser sur scène et le montrer au maximum de gens.  \nIn
 fos et réservations: https://www.luxembourg-ticket.lu/en/8/eid\,26428/la-p
 etite-troupe-d-%23039%3Ba-c%C3%B4te.html \nEvénement facebook: https://www
 .facebook.com/events/632083134111888/
DTSTART;TZID=Europe/Luxembourg:20201006T200000
DTEND;TZID=Europe/Luxembourg:20201006T220000
LOCATION:Aalt Stadhaus\, 38 Avenue Charlotte\, 4530 Differdange\, Luxembour
 g
SEQUENCE:0
SUMMARY:PETACO Spectacle Melting pot (LUX-Differdange)
X-ALT-DESC;FMTTYPE=text/html:<!DOCTYPE HTML PUBLIC '-//W3C//DTD HTML 3.2//E
 N'>\\n<HTML>\\n<HEAD>\\n<TITLE></TITLE>\\n</HEAD>\\n<BODY><p>Cette troupe 
 atypique avec ses six improvisateurs\, qu’on ne présente plus\, qui a fêté
  ses cinq ans de scène en avril dernier et avec plus de 1000 abonnés sur F
 acebook revient pour une troisième année consécutive à l’Aalt Stadhaus ave
 c une nouvelle formule Melting pot qui réunira certains de leurs meilleurs
  concepts joués ces dernières années!</p>\n<p>Leur histoire a commencé à t
 rois et aujourd’hui\, ils se retrouvent à six. Mais qui est cette troupe?<
 /p>\n<p>Voici comment ils se présentent:</p>\n<p>On est PETIT parce qu’on 
 n’est pas grand\, et on nous a toujours dit que tout ce qui était petit ét
 ait mignon\;<br />\nOn est une TROUPE proposant des spectacles d’improvisa
 tion divers et variés\;<br />\nOn est À CÔTÉ des autres troupes\, pour leu
 r proposer de jouer avec nous de nouvelles choses. Et comme le Luxembourg 
 est un petit pays\, on est forcément à côté de toi.<br />\nEn fait\, on es
 t surtout des amis qui veulent s’amuser sur scène et le montrer au maximum
  de gens.  </p>\n<p>Infos et réservations: https://www.luxembourg-ticket.l
 u/en/8/eid\,26428/la-petite-troupe-d-%23039%3Ba-c%C3%B4te.html </p>\n<p>Ev
 énement facebook: https://www.facebook.com/events/632083134111888/</p>\n</
 BODY></HTML>
END:VEVENT
END:VCALENDAR
