BEGIN:VCALENDAR
VERSION:2.0
PRODID:-//159.69.87.28//NONSGML kigkonsult.se iCalcreator 2.26.9//
CALSCALE:GREGORIAN
METHOD:PUBLISH
X-WR-CALNAME:F L I
X-WR-CALDESC:Fédération Luxembourgeoise d’Improvisation
X-FROM-URL:https://fli.lu
X-WR-TIMEZONE:Europe/Luxembourg
BEGIN:VTIMEZONE
TZID:Europe/Luxembourg
X-LIC-LOCATION:Europe/Luxembourg
BEGIN:STANDARD
DTSTART:20201025T030000
TZOFFSETFROM:+0200
TZOFFSETTO:+0100
RDATE:20211031T030000
TZNAME:CET
END:STANDARD
BEGIN:DAYLIGHT
DTSTART:20210328T020000
TZOFFSETFROM:+0100
TZOFFSETTO:+0200
RDATE:20220327T020000
TZNAME:CEST
END:DAYLIGHT
END:VTIMEZONE
BEGIN:VEVENT
UID:99385D2D-B631-4546-AA07-369ED6F772F0
DTSTAMP:20210420T035251Z
CATEGORIES:
CONTACT:
DESCRIPTION:<p>La FLI vous propose une rencontre de deux équipes luxembourg
 eoises. Ce théâtre contemporain où\, durant la représentation\, l’acteur e
 st à la fois dramaturge\, metteur en scène\, scénographe et acteur\, est u
 n divertissement à découvrir en famille. L’improvisateur joue devant un pu
 blic sans texte prédéfini et sans mise en scène préalable\, selon un temps
  donné et selon ce que lui inspire le thème de l’arbitre\, le méchant.<br 
 />\nToutes les précautions relatives au COVID seront bien entendu respecté
 es!</p>
DTSTART;TZID=Europe/Luxembourg:20210121T193000
DTEND;TZID=Europe/Luxembourg:20210121T220000
LOCATION:474\, route de Thionville\nL-5886 Hesperange
SEQUENCE:0
SUMMARY:sMatch d’Impro
X-COST-TYPE:external
END:VEVENT
END:VCALENDAR
