BEGIN:VCALENDAR
VERSION:2.0
PRODID:-//159.69.87.28//NONSGML kigkonsult.se iCalcreator 2.26.9//
CALSCALE:GREGORIAN
METHOD:PUBLISH
X-WR-CALNAME:F L I
X-WR-CALDESC:Fédération Luxembourgeoise d’Improvisation
X-FROM-URL:https://fli.lu
X-WR-TIMEZONE:Europe/Luxembourg
BEGIN:VTIMEZONE
TZID:Europe/Luxembourg
X-LIC-LOCATION:Europe/Luxembourg
BEGIN:STANDARD
DTSTART:20201025T030000
TZOFFSETFROM:+0200
TZOFFSETTO:+0100
RDATE:20211031T030000
TZNAME:CET
END:STANDARD
BEGIN:DAYLIGHT
DTSTART:20210328T020000
TZOFFSETFROM:+0100
TZOFFSETTO:+0200
RDATE:20220327T020000
TZNAME:CEST
END:DAYLIGHT
END:VTIMEZONE
BEGIN:VEVENT
UID:6dj62pho60s38b9mcos66b9k6os3ebb175j3cbb265i3ic9jccsm4c1l74@google.com
DTSTAMP:20210420T035243Z
CATEGORIES:
CONTACT:
DESCRIPTION:Envie de découvrir l’impro ?Envie de créer des histoires extrao
 rdinaires ?Envie de devenir Chevalier\, extra-terrestre\, magicienne\, con
 ducteur de camion ou lutin ?\nAprès le succès des ateliers de la saison de
 rnière\, le Centre Culturel de Habay et L’Habérézina vous proposent à nouv
 eau un atelier d’initiation à l’improvisation théâtrale.Durant 28 soirées 
 (le mercredi soir)\, différents coachs-improvisateurs de l’Habérézina et d
 e la province du Luxembourg vous proposeront de nombreux exercices pour vo
 us faire découvrir l’impro.\nL’atelier est ouvert aux adultes (et jeunes à
  partir de 18 ans).\n28 séances à partir du mercredi 30 septembre jusqu’au
  mercredi 26 mai – 169 € (hors congés scolaires belges)Prévoir des baskets
  et une tenue souple qui permettent de bouger\,Min 10 participants – max 1
 4 participants\nInscriptions obligatoires auprès du Centre Culturel de Hab
 ay : info@habay-culture.be ou au 063 42 41 07. réservations : https://www.
 habay-culture.be/reserver/un-atelier-annuel-adultes/ \nhttps://www.faceboo
 k.com/events/409391366700672/
DTSTART;TZID=Europe/Luxembourg:20200930T200000
DTEND;TZID=Europe/Luxembourg:20200930T223000
EXDATE;TZID=Europe/Luxembourg:20201104T200000
EXDATE;TZID=Europe/Luxembourg:20210113T200000
EXDATE;TZID=Europe/Luxembourg:20210120T200000
EXDATE;TZID=Europe/Luxembourg:20210127T200000
EXDATE;TZID=Europe/Luxembourg:20210203T200000
EXDATE;TZID=Europe/Luxembourg:20210210T200000
EXDATE;TZID=Europe/Luxembourg:20210217T200000
EXDATE;TZID=Europe/Luxembourg:20210224T200000
LOCATION:Centre culturel de Habay Rue d'Hoffschmidt 27\, 6720 Habay-la-Neuv
 e Belgique
RRULE:FREQ=WEEKLY;UNTIL=20210303T185959Z;INTERVAL=1;BYDAY=WE
SEQUENCE:0
SUMMARY:Atelier d’initiation à l’improvisation théâtrale à Habay
X-ALT-DESC;FMTTYPE=text/html:<!DOCTYPE HTML PUBLIC '-//W3C//DTD HTML 3.2//E
 N'>\\n<HTML>\\n<HEAD>\\n<TITLE></TITLE>\\n</HEAD>\\n<BODY><p>Envie de déco
 uvrir l’impro ?<br />Envie de créer des histoires extraordinaires ?<br />E
 nvie de devenir Chevalier\, extra-terrestre\, magicienne\, conducteur de c
 amion ou lutin ?</p>\n<p>Après le succès des ateliers de la saison dernièr
 e\, le Centre Culturel de Habay et L’Habérézina vous proposent à nouveau u
 n atelier d’initiation à l’improvisation théâtrale.<br />Durant 28 soirées
  (le mercredi soir)\, différents coachs-improvisateurs de l’Habérézina et 
 de la province du Luxembourg vous proposeront de nombreux exercices pour v
 ous faire découvrir l’impro.</p>\n<p>L’atelier est ouvert aux adultes (et 
 jeunes à partir de 18 ans).</p>\n<p>28 séances à partir du mercredi 30 sep
 tembre jusqu’au mercredi 26 mai – 169 € (hors congés scolaires belges)<br 
 />Prévoir des baskets et une tenue souple qui permettent de bouger\,<br />
 Min 10 participants – max 14 participants</p>\n<p>Inscriptions obligatoire
 s auprès du Centre Culturel de Habay : <a href='mailto:info@habay-culture.
 be'>info@habay-culture.be</a> ou au 063 42 41 07. réservations : https://w
 ww.habay-culture.be/reserver/un-atelier-annuel-adultes/ </p>\n<p><a href='
 https://www.facebook.com/events/409391366700672/' id='ow587'>https://www.f
 acebook.com/events/409391366700672/</a></p>\n</BODY></HTML>
END:VEVENT
END:VCALENDAR
