BEGIN:VCALENDAR
VERSION:2.0
PRODID:-//159.69.87.28//NONSGML kigkonsult.se iCalcreator 2.26.9//
CALSCALE:GREGORIAN
METHOD:PUBLISH
X-WR-CALNAME:F L I
X-WR-CALDESC:Fédération Luxembourgeoise d’Improvisation
X-FROM-URL:https://fli.lu
X-WR-TIMEZONE:Europe/Luxembourg
BEGIN:VTIMEZONE
TZID:Europe/Luxembourg
X-LIC-LOCATION:Europe/Luxembourg
BEGIN:STANDARD
DTSTART:20201025T030000
TZOFFSETFROM:+0200
TZOFFSETTO:+0100
RDATE:20211031T030000
TZNAME:CET
END:STANDARD
BEGIN:DAYLIGHT
DTSTART:20210328T020000
TZOFFSETFROM:+0100
TZOFFSETTO:+0200
RDATE:20220327T020000
TZNAME:CEST
END:DAYLIGHT
END:VTIMEZONE
BEGIN:VEVENT
UID:760853B6-1C3A-4035-B1A2-ABD534ACD3DD
DTSTAMP:20210420T035231Z
CATEGORIES:
CONTACT:
DESCRIPTION:Christelle Delbrouck sera présente ce vendredi 5 mars à Hespera
 nge avec son spectacle Rugueux.\nLe lien vers les réservations https://www
 .luxembourg-ticket.lu/…/eid\,36687/rugueux.html
DTSTART;TZID=Europe/Luxembourg:20210305T193000
DTEND;TZID=Europe/Luxembourg:20210305T213000
LOCATION:Salle Nicolas Braun @ Hesperange
SEQUENCE:0
SUMMARY:Spectacle RUGUEUX
X-ALT-DESC;FMTTYPE=text/html:<!DOCTYPE HTML PUBLIC '-//W3C//DTD HTML 3.2//E
 N'>\\n<HTML>\\n<HEAD>\\n<TITLE></TITLE>\\n</HEAD>\\n<BODY><p>Christelle De
 lbrouck sera présente ce vendredi 5 mars à Hesperange avec son spectacle R
 ugueux.<br />\nLe lien vers les réservations https://www.luxembourg-ticket
 .lu/…/eid\,36687/rugueux.html</p>\n</BODY></HTML>
END:VEVENT
END:VCALENDAR
