BEGIN:VCALENDAR
VERSION:2.0
PRODID:-//159.69.87.28//NONSGML kigkonsult.se iCalcreator 2.26.9//
CALSCALE:GREGORIAN
METHOD:PUBLISH
X-WR-CALNAME:F L I
X-WR-CALDESC:Fédération Luxembourgeoise d’Improvisation
X-FROM-URL:https://fli.lu
X-WR-TIMEZONE:Europe/Luxembourg
BEGIN:VTIMEZONE
TZID:Europe/Luxembourg
X-LIC-LOCATION:Europe/Luxembourg
BEGIN:STANDARD
DTSTART:20211031T030000
TZOFFSETFROM:+0200
TZOFFSETTO:+0100
RDATE:20221030T030000
TZNAME:CET
END:STANDARD
BEGIN:DAYLIGHT
DTSTART:20210328T020000
TZOFFSETFROM:+0100
TZOFFSETTO:+0200
RDATE:20220327T020000
TZNAME:CEST
END:DAYLIGHT
END:VTIMEZONE
BEGIN:VEVENT
UID:29meaes1nqp8o1d8i654315jui@google.com
DTSTAMP:20210720T132437Z
CATEGORIES:
CONTACT:
DESCRIPTION:https://www.facebook.com/events/583007285444330/MEMO revient au
  Escher Kafé pour un spectacle d’improvisation! Une première partie consac
 rée à 4-5 improvisations dirigées par Guill Brosse qui donnera le rythme e
 t le style de jeu.Après un entracte\, une improvisation d’une quarantaine 
 de minutes (basée sur un élément de la première partie)\, pour te raconter
  une seule histoire… et ce sera toi\, public\, qui nous donnera les clés d
 e départ.\nPrix: gratuit à l’entrée / sortie au chapeau\nréservations: mem
 o.impro@gmail.com
DTSTART;TZID=Europe/Luxembourg:20190404T203000
DTEND;TZID=Europe/Luxembourg:20190404T223000
LOCATION:55 Rue du Clair-Chêne\, 4061 Esch-sur-Alzette\, Luxembourg
SEQUENCE:0
SUMMARY:Développe! – Spectacle d’improvisation théâtrale
X-ALT-DESC;FMTTYPE=text/html:<!DOCTYPE HTML PUBLIC '-//W3C//DTD HTML 3.2//E
 N'>\\n<HTML>\\n<HEAD>\\n<TITLE></TITLE>\\n</HEAD>\\n<BODY><p><a href='http
 s://www.facebook.com/events/583007285444330/' id='ow315'>https://www.faceb
 ook.com/events/583007285444330/</a>MEMO revient au Escher Kafé pour un spe
 ctacle d’improvisation! Une première partie consacrée à 4-5 improvisations
  dirigées par Guill Brosse qui donnera le rythme et le style de jeu.<br />
 Après un entracte\, une improvisation d’une quarantaine de minutes (basée 
 sur un élément de la première partie)\, pour te raconter une seule histoir
 e… et ce sera toi\, public\, qui nous donnera les clés de départ.</p>\n<p>
 Prix: gratuit à l’entrée / sortie au chapeau</p>\n<p>réservations: memo.im
 pro@gmail.com</p>\n</BODY></HTML>
END:VEVENT
END:VCALENDAR
